BEGIN:VCALENDAR
VERSION:2.0
PRODID:-//ChamberMaster//Event Calendar 2.0//EN
METHOD:PUBLISH
X-PUBLISHED-TTL:P3D
REFRESH-INTERVAL:P3D
CALSCALE:GREGORIAN
BEGIN:VEVENT
DTSTART:20251011T230000Z
DTEND:20251012T020000Z
X-MICROSOFT-CDO-ALLDAYEVENT:FALSE
SUMMARY:Parker County Republican Women's Gala
DESCRIPTION:Annual PCRW Gala with Key Note Speaker Roger Williams
X-ALT-DESC;FMTTYPE=text/html:Annual PCRW Gala with Key Note Speaker Roger Williams
LOCATION:Rigdlea Country Club 3700 Bernie Anderson Ave Fort Worth\, Texas 76116
UID:e.2477.20413
SEQUENCE:3
DTSTAMP:20260423T014717Z
URL:http://business.parkercountychamber.com/events/details/parker-county-republican-women-s-gala-20413
END:VEVENT

END:VCALENDAR
