BEGIN:VCALENDAR
VERSION:2.0
PRODID:-//ChamberMaster//Event Calendar 2.0//EN
METHOD:PUBLISH
X-PUBLISHED-TTL:P3D
REFRESH-INTERVAL:P3D
CALSCALE:GREGORIAN
BEGIN:VEVENT
DTSTART:20250414T230000Z
DTEND:20250415T010000Z
X-MICROSOFT-CDO-ALLDAYEVENT:FALSE
SUMMARY:Parker County Republican Women Candidate Forum
DESCRIPTION:The next election determines our City Council and School Board members. Early voting is April 21st-29th. Election Day is Saturday May 3rd. \n\n\n\nPlease join Parker County Republican Women on April 14th at 6:00 pm at the Doss Heritage and Culture Center\, 1400 Texas Drive in Weatherford. We are providing a forum for our community to come together and hear from the City Council and School Board candidates.\n\nPlease join us and bring your questions. It would be good to have all on the ballet to show up and introduce themselves even though you may not have an opponent. Thank you for your time and commitment to our community.\nLisa Catlin\n\nPCRW President\n\n817-578-1805
X-ALT-DESC;FMTTYPE=text/html:<span style="color:rgb(36\, 36\, 36)\; font-family:segoe ui\,lucida grande\,tahoma\,sans-serif\; font-size:15px">The next election determines our City Council and School Board members. Early voting is April 21st-29th. Election Day is Saturday May 3rd.&nbsp\;</span><br />\n<br />\n<span style="color:rgb(36\, 36\, 36)\; font-family:segoe ui\,lucida grande\,tahoma\,sans-serif\; font-size:15px">Please join Parker County Republican Women on April 14</span><sup>th</sup><span style="color:rgb(36\, 36\, 36)\; font-family:segoe ui\,lucida grande\,tahoma\,sans-serif\; font-size:15px">&nbsp\;at 6:00 pm at the Doss Heritage and Culture Center\, 1400 Texas Drive in Weatherford.&nbsp\;We are providing a forum for our community to come together and hear from the City Council and School Board candidates.</span><br />\n<span style="color:rgb(36\, 36\, 36)\; font-family:segoe ui\,lucida grande\,tahoma\,sans-serif\; font-size:15px">Please join us and bring your questions. It would be good to have all on the ballet to show up and introduce themselves even though you may not have an opponent. Thank you for your time and commitment to our community.</span>\n<p><strong>Lisa Catlin<br />\nPCRW&nbsp\;</strong><strong>President<br />\n817-578-1805</strong></p>\n
LOCATION:
UID:e.2477.20333
SEQUENCE:3
DTSTAMP:20260423T085817Z
URL:http://business.parkercountychamber.com/events/details/parker-county-republican-women-candidate-forum-20333
END:VEVENT

END:VCALENDAR
