BEGIN:VCALENDAR
VERSION:2.0
PRODID:-//ChamberMaster//Event Calendar 2.0//EN
METHOD:PUBLISH
X-PUBLISHED-TTL:P3D
REFRESH-INTERVAL:P3D
CALSCALE:GREGORIAN
BEGIN:VEVENT
DTSTART:20220510T210000Z
DTEND:20220510T230000Z
X-MICROSOFT-CDO-ALLDAYEVENT:FALSE
SUMMARY:Parker County Real Estate Networking Happy Hour
DESCRIPTION:Parker County Real Estate Professionals - join us for a chance to network with your peers in a relaxed\, stress-free environment. Grab your business cards and have a drink with your real estate partners! Sponsored by Truly Title Weatherford & Ryan Stewart with Caliber Home Loans.
X-ALT-DESC;FMTTYPE=text/html:<span style="color:rgb(5\, 5\, 5)\; font-family:segoe ui historic\,segoe ui\,helvetica\,arial\,sans-serif\; font-size:15px">Parker County Real Estate Professionals - join us for a chance to network with your peers in a relaxed\, stress-free environment. Grab your business cards and have a drink with your real estate partners! Sponsored by Truly Title Weatherford &amp\; Ryan Stewart with Caliber Home Loans.</span>
LOCATION:Antebellum Ale House 321 E Oak Street Weatherford\, Texas 76086
UID:e.2477.17768
SEQUENCE:3
DTSTAMP:20260425T143905Z
URL:http://business.parkercountychamber.com/events/details/parker-county-real-estate-networking-happy-hour-05-10-2022-17768
END:VEVENT

END:VCALENDAR
