BEGIN:VCALENDAR
VERSION:2.0
PRODID:-//ChamberMaster//Event Calendar 2.0//EN
METHOD:PUBLISH
X-PUBLISHED-TTL:P3D
REFRESH-INTERVAL:P3D
CALSCALE:GREGORIAN
BEGIN:VEVENT
DTSTART:20220412T210000Z
DTEND:20220412T230000Z
X-MICROSOFT-CDO-ALLDAYEVENT:FALSE
SUMMARY:Parker County Real Estate Networking
DESCRIPTION:Parker County Real Estate Professionals - join us for a chance to network with your peers in a relaxed\, stress-free environment. Grab your business cards and have a drink with your real estate partners!
X-ALT-DESC;FMTTYPE=text/html:<span style="background-color:rgb(255\, 255\, 255)\; color:rgb(5\, 5\, 5)\; font-family:source sans pro\,helvetica\,tahoma\,geneva\,arial\,sans-serif\; font-size:15px">Parker County Real Estate Professionals - join us for a chance to network with your peers in a relaxed\, stress-free environment. Grab your business cards and have a drink with your real estate partners!</span>
LOCATION:Parker Co. Ice House 210 Willow Bend Dr. Aledo\, TX 76008
UID:e.2477.17743
SEQUENCE:3
DTSTAMP:20260425T154332Z
URL:http://business.parkercountychamber.com/events/details/parker-county-real-estate-networking-04-12-2022-17743
END:VEVENT

END:VCALENDAR
