BEGIN:VCALENDAR
VERSION:2.0
PRODID:-//ChamberMaster//Event Calendar 2.0//EN
METHOD:PUBLISH
X-PUBLISHED-TTL:P3D
REFRESH-INTERVAL:P3D
CALSCALE:GREGORIAN
BEGIN:VEVENT
DTSTART:20260302T160000Z
DTEND:20260302T230000Z
X-MICROSOFT-CDO-ALLDAYEVENT:FALSE
SUMMARY:Parker County Historical Commission Office Open
DESCRIPTION:Did you know that Parker County\, Texas was officially organized on March 2\, 1856? Which means that Monday\, March 2nd of this year\, Parker County celebrates its 170th birthday! To recognize this special day the PCHC office\, on the historic square in Weatherford\, will be open from 10:00 am to 5:00 pm. So\, plan a visit and get connected to your local history! Learn how you can help preserve historic sites\, learn what's been lost\, and learn ways to save and maintain what remains of this county's rich history. Oh\, and March 2nd just happens to be Texas Independence Day and the birthday of Sam Houston\, the first (and third) president of the Republic of Texas. A special day all the way around!
X-ALT-DESC;FMTTYPE=text/html:<span style="background-color:rgb(37\, 39\, 40)\; color:rgb(226\, 229\, 233)\; font-family:system-ui\,-apple-system\,blinkmacsystemfont\,.sfnstext-regular\,sans-serif\; font-size:15px">Did you know that Parker County\, Texas was officially organized on March 2\, 1856? Which means that Monday\, March 2nd of this year\, Parker County celebrates its 170th birthday! To recognize this special day the PCHC office\, on the historic square in Weatherford\, will be open from 10:00 am to 5:00 pm. So\, plan a visit and get connected to your local history! Learn how you can help preserve historic sites\, learn what&#39\;s been lost\, and learn ways to save and maintain what remains of this county&#39\;s rich history. Oh\, and March 2nd just happens to be Texas Independence Day and the birthday of Sam Houston\, the first (and third) president of the Republic of Texas. A special day all the way around!</span>
LOCATION:Parker County Historical Commission Office 108 Dallas Avenue Weatherford\, Texas 76086
UID:e.2477.21873
SEQUENCE:3
DTSTAMP:20260421T032134Z
URL:http://business.parkercountychamber.com/events/details/parker-county-historical-commission-office-open-21873
END:VEVENT

END:VCALENDAR
