BEGIN:VCALENDAR
VERSION:2.0
PRODID:-//ChamberMaster//Event Calendar 2.0//EN
METHOD:PUBLISH
X-PUBLISHED-TTL:P3D
REFRESH-INTERVAL:P3D
CALSCALE:GREGORIAN
BEGIN:VEVENT
DTSTART:20240217T003000Z
DTEND:20240217T043000Z
X-MICROSOFT-CDO-ALLDAYEVENT:FALSE
SUMMARY:Parker County Health Foundation Boots Bling Gala
DESCRIPTION:
X-ALT-DESC;FMTTYPE=text/html:
LOCATION:
UID:e.2477.19090
SEQUENCE:3
DTSTAMP:20260424T083014Z
URL:http://business.parkercountychamber.com/events/details/parker-county-health-foundation-boots-amp-bling-bling-gala-19090
END:VEVENT

END:VCALENDAR
