BEGIN:VCALENDAR
VERSION:2.0
PRODID:-//ChamberMaster//Event Calendar 2.0//EN
METHOD:PUBLISH
X-PUBLISHED-TTL:P3D
REFRESH-INTERVAL:P3D
CALSCALE:GREGORIAN
BEGIN:VEVENT
DTSTART:20241212T000000Z
DTEND:20241212T030000Z
X-MICROSOFT-CDO-ALLDAYEVENT:FALSE
SUMMARY:Parker County Bar Association Christmas Party
DESCRIPTION:PCBA Annual Christmas Party
X-ALT-DESC;FMTTYPE=text/html:PCBA Annual Christmas Party
LOCATION:Salt 209 E Church Street Weatherford\, Texas 76086
UID:e.2477.20044
SEQUENCE:3
DTSTAMP:20260423T185634Z
URL:http://business.parkercountychamber.com/events/details/parker-county-bar-association-christmas-party-20044
END:VEVENT

END:VCALENDAR
