BEGIN:VCALENDAR
VERSION:2.0
PRODID:-//ChamberMaster//Event Calendar 2.0//EN
METHOD:PUBLISH
X-PUBLISHED-TTL:P3D
REFRESH-INTERVAL:P3D
CALSCALE:GREGORIAN
BEGIN:VEVENT
DTSTART:20211002T230000Z
DTEND:20211003T010000Z
X-MICROSOFT-CDO-ALLDAYEVENT:FALSE
SUMMARY:Open House Party
DESCRIPTION:Destiny Studio's new location in Aledo (9901 East Bankhead Hwy) is hosting their Open House Party! Saturday\, October 2nd from 6pm to 8pm. There will be sweet treats\, Live Music\, Games\, Karaoke. PLUS every family attending will be entered to win 6 months of FREE tuition. Come see what all of the hype is about! We can't wait to meet you!
X-ALT-DESC;FMTTYPE=text/html:Destiny Studio&#39\;s <strong>new</strong> location in Aledo (9901 East Bankhead Hwy) is hosting their Open House Party! Saturday\, October 2nd from 6pm to 8pm. There will be sweet treats\, Live Music\, Games\, Karaoke. PLUS every family attending will be entered to win 6 months of FREE tuition. Come see what all of the hype is about! We can&#39\;t wait to meet you!&nbsp\;
LOCATION:
UID:e.2477.15571
SEQUENCE:3
DTSTAMP:20260426T011936Z
URL:http://business.parkercountychamber.com/events/details/open-house-party-15571
END:VEVENT

END:VCALENDAR
