BEGIN:VCALENDAR
VERSION:2.0
PRODID:-//ChamberMaster//Event Calendar 2.0//EN
METHOD:PUBLISH
X-PUBLISHED-TTL:P3D
REFRESH-INTERVAL:P3D
CALSCALE:GREGORIAN
BEGIN:VEVENT
DTSTART:20240727T170000Z
DTEND:20240727T200000Z
X-MICROSOFT-CDO-ALLDAYEVENT:FALSE
SUMMARY:Open House and Small Business/Health Fair- D1 Training Aledo
DESCRIPTION:D1 training in Aledo is having an Open House and Small Business/Health Fair on July 27th from 12pm-3pm. There will be spots for anyone that is interested inside and outside to set up (First Come First Serve)\, bring your own tables and chairs\, have a door prize worth $50 or more\, and entry and spot is completely free! The only price is the door prize for your company. Share on social media that your company will be here and we will send a form to your email to fill out.
X-ALT-DESC;FMTTYPE=text/html:D1 training in Aledo is having an Open House and Small Business/Health Fair on July 27th from 12pm-3pm. There will be spots for anyone that is interested inside and outside to set up (First Come First Serve)\, bring your own tables and chairs\, have a door prize worth $50 or more\, and entry and spot is completely free! The only price is the door prize for your company. Share on social media that your company will be here and we will send a form to your email to fill out.&nbsp\;
LOCATION:250 Bailey Ranch Road\, Aledo\, TX\, 76008
UID:e.2477.19700
SEQUENCE:3
DTSTAMP:20260424T013320Z
URL:http://business.parkercountychamber.com/events/details/open-house-and-small-business-health-fair-d1-training-aledo-19700
END:VEVENT

END:VCALENDAR
