BEGIN:VCALENDAR
VERSION:2.0
PRODID:-//ChamberMaster//Event Calendar 2.0//EN
METHOD:PUBLISH
X-PUBLISHED-TTL:P3D
REFRESH-INTERVAL:P3D
CALSCALE:GREGORIAN
BEGIN:VEVENT
DTSTART:20250418T000000Z
DTEND:20250418T020000Z
X-MICROSOFT-CDO-ALLDAYEVENT:FALSE
SUMMARY:Night at the Opera
DESCRIPTION:Night at the Opera\n\nCarmen\, Samson and Delilah\n\nThe Old Maid and the Theif & Die Fledermaus.
X-ALT-DESC;FMTTYPE=text/html:<span style="color:rgb(49\, 49\, 49)\; font-family:-apple-system\,system-ui\,segoe ui\,roboto\,helvetica\,arial\,sans-serif\,apple color emoji\,segoe ui emoji\,segoe ui symbol\; font-size:14px">Night at the Opera</span><br />\n<span style="color:rgb(49\, 49\, 49)\; font-family:-apple-system\,system-ui\,segoe ui\,roboto\,helvetica\,arial\,sans-serif\,apple color emoji\,segoe ui emoji\,segoe ui symbol\; font-size:14px">Carmen\, Samson and Delilah</span><br />\n<span style="color:rgb(49\, 49\, 49)\; font-family:-apple-system\,system-ui\,segoe ui\,roboto\,helvetica\,arial\,sans-serif\,apple color emoji\,segoe ui emoji\,segoe ui symbol\; font-size:14px">The Old Maid and the Theif &amp\; Die Fledermaus.</span>
LOCATION:Weatherford College Alkek Fine Arts Center 225 College Park Dr. Weatherford\, TX 76086
UID:e.2477.20332
SEQUENCE:3
DTSTAMP:20260423T085433Z
URL:http://business.parkercountychamber.com/events/details/night-at-the-opera-20332
END:VEVENT

END:VCALENDAR
