BEGIN:VCALENDAR
VERSION:2.0
PRODID:-//ChamberMaster//Event Calendar 2.0//EN
METHOD:PUBLISH
X-PUBLISHED-TTL:P3D
REFRESH-INTERVAL:P3D
CALSCALE:GREGORIAN
BEGIN:VEVENT
DTSTART:20241217T010000Z
DTEND:20241217T030000Z
X-MICROSOFT-CDO-ALLDAYEVENT:FALSE
SUMMARY:Messiah
DESCRIPTION:Weatherford College presents Messiah.  Performed by the Parker County Community Choir\, directed by Rick Rainey.
X-ALT-DESC;FMTTYPE=text/html:Weatherford College presents Messiah.&nbsp\; Performed by the Parker County Community Choir\, directed by Rick Rainey.
LOCATION:Weatherford College Alkek Fine Arts Center 225 College Park Dr.
UID:e.2477.20037
SEQUENCE:3
DTSTAMP:20260423T191242Z
URL:http://business.parkercountychamber.com/events/details/messiah-20037
END:VEVENT

END:VCALENDAR
