BEGIN:VCALENDAR
VERSION:2.0
PRODID:-//ChamberMaster//Event Calendar 2.0//EN
METHOD:PUBLISH
X-PUBLISHED-TTL:P3D
REFRESH-INTERVAL:P3D
CALSCALE:GREGORIAN
BEGIN:VEVENT
DTSTART:20250526T150000Z
DTEND:20250526T163000Z
X-MICROSOFT-CDO-ALLDAYEVENT:FALSE
SUMMARY:MEMORIAL DAY CEREMONY
DESCRIPTION:Memorial Day Ceremony is hosted by Parker County American Legion Post 163 and will be at Memorial Gardens on Mineral Wells Hiway beginning at 10AM.  The ceremony will be at the Flag pole and following the ceremony flags will be provided that will be put on the over 600 Veteran graves located there.\n\nWe hope to see everyone there.
X-ALT-DESC;FMTTYPE=text/html:Memorial Day Ceremony is hosted by Parker County American Legion Post 163 and will be at Memorial Gardens on Mineral Wells Hiway beginning at 10AM.&nbsp\; The ceremony will be at the Flag pole and following the ceremony flags will be provided that will be put on the over 600 Veteran graves located there.<br />\nWe hope to see everyone there.
LOCATION:
UID:e.2477.4099
SEQUENCE:3
DTSTAMP:20260423T072553Z
URL:http://business.parkercountychamber.com/events/details/memorial-day-ceremony-05-26-2025-4099
END:VEVENT

END:VCALENDAR
