BEGIN:VCALENDAR
VERSION:2.0
PRODID:-//ChamberMaster//Event Calendar 2.0//EN
METHOD:PUBLISH
X-PUBLISHED-TTL:P3D
REFRESH-INTERVAL:P3D
CALSCALE:GREGORIAN
BEGIN:VEVENT
DTSTART:20250305T000000Z
DTEND:20250305T030000Z
X-MICROSOFT-CDO-ALLDAYEVENT:FALSE
SUMMARY:Mardi Gras Festival
DESCRIPTION:Join us for our third annual Mardi Gras Festival in the Alkek Fine Arts Center. This free\, family-friendly event will feature jazz music\, gumbo contest\, face painting\, crafts for kids\, and great food. Let the good times roll!\n\n \nWEATHERFORD COLLEGE\n\nGUMBO CONTEST GUIDELINES\n\nDEADLINE TO SIGN UP IS FEBRUARY 25.\n\n\n	Chefs will bring their pre-cooked gumbo and a warmer to room 103 in the Alkek Fine Arts Building. Contestants need to be set up by 5:30.\n	Room FINE 103 will be available for chefs beginning at 4 pm.\n	Chefs should be ready to provide samples for the four judges by 5:45.\n	Please bring your ladles for serving gumbo.\n	Rice\, bowls\, and spoons will be provided.\n	Electrical hook-ups for warmers are provided.\n	Chef Eben Lee Hall will be the gumbo contest monitor.\n	Judges will pick their three top gumbos.\n	Winners will be announced at 7:30 in the Alkek Theater.\n	Prizes for First\, Second\, and Third place will be awarded at that time.\n	PLEASE FEEL FREE TO DECORATE YOUR ENTRY/AREA AS YOU DESIRE!\n\n\nYou can fill out the online form or call 817-598-8981.\n\nOnline Form: https://forms.office.com/r/vawjpaP9PK\n\nIf you have any questions contact:\n\nSandra C. Kurosky at sckurosky@wc.edu or 817-598-8981\n\n\n\n \n\nGOOD LUCK TO EVERYONE!
X-ALT-DESC;FMTTYPE=text/html:Join us for our third annual Mardi Gras Festival in the Alkek Fine Arts Center. This free\, family-friendly event will feature jazz music\, gumbo contest\, face painting\, crafts for kids\, and great food. Let the good times roll!<br />\n&nbsp\;\n<div style="text-align:center">WEATHERFORD COLLEGE</div>\n\n<div style="text-align:center">GUMBO CONTEST GUIDELINES</div>\n\n<div style="text-align:center">DEADLINE TO SIGN UP IS <strong>FEBRUARY 25.</strong></div>\n\n<ul>\n	<li>Chefs will bring their pre-cooked gumbo and a warmer to room 103 in the Alkek Fine Arts Building. Contestants need to be set up by 5:30.</li>\n	<li>Room FINE 103 will be available for chefs beginning at 4 pm.</li>\n	<li>Chefs should be ready to provide samples for the four judges by 5:45.</li>\n	<li>Please bring your ladles for serving gumbo.</li>\n	<li>Rice\, bowls\, and spoons will be provided.</li>\n	<li>Electrical hook-ups for warmers are provided.</li>\n	<li>Chef Eben Lee Hall will be the gumbo contest monitor.</li>\n	<li>Judges will pick their three top gumbos.</li>\n	<li>Winners will be announced at 7:30 in the Alkek Theater.</li>\n	<li>Prizes for First\, Second\, and Third place will be awarded at that time.</li>\n	<li>PLEASE FEEL FREE TO DECORATE YOUR ENTRY/AREA AS YOU DESIRE!</li>\n</ul>\n\n<p>You can fill out the online form or call 817-598-8981.<br />\nOnline Form: <a href="https://forms.office.com/r/vawjpaP9PK" rel="noopener" target="_blank">https://forms.office.com/r/vawjpaP9PK</a></p>\n\n<p>If you have any questions contact:</p>\n\n<p><strong>Sandra C. Kurosky</strong> at <a class="linkified" href="mailto:sckurosky@wc.edu">sckurosky@wc.edu</a>&nbsp\;or 817-598-8981<br />\n<br />\n&nbsp\;</p>\n\n<p style="text-align:center"><strong>GOOD LUCK TO EVERYONE!</strong></p>\n
LOCATION:Weatherford College Alkek Fine Arts Center 225 College Park Dr.
UID:e.2477.20123
SEQUENCE:3
DTSTAMP:20260423T103031Z
URL:http://business.parkercountychamber.com/events/details/mardi-gras-festival-20123
END:VEVENT

END:VCALENDAR
