BEGIN:VCALENDAR
VERSION:2.0
PRODID:-//ChamberMaster//Event Calendar 2.0//EN
METHOD:PUBLISH
X-PUBLISHED-TTL:P3D
REFRESH-INTERVAL:P3D
CALSCALE:GREGORIAN
BEGIN:VEVENT
DTSTART:20250326T163000Z
DTEND:20250326T180000Z
X-MICROSOFT-CDO-ALLDAYEVENT:FALSE
SUMMARY:March Food for Thought
DESCRIPTION:Join us at Rio Mambo to enjoy a COMPLIMENTARY MEAL and learn how you can ease the emotional and financial burden on your family by preplanning your funeral.\n\n\n\nSeating is limited to the first 30 people who RSVP\, so please call our automated phone line 24 hours a day and use the code 0932 to reserve your place.\n\n\n\nThe address is 1302 S Main St.\, Weatherford\, TX 76086
X-ALT-DESC;FMTTYPE=text/html:<span style="background-color:rgb(255\, 255\, 255)\; color:rgb(34\, 34\, 34)\; font-family:arial\,helvetica\,sans-serif\; font-size:small">Join us at Rio Mambo to enjoy a COMPLIMENTARY MEAL and learn how you can ease the emotional and financial burden on your family by preplanning your funeral.</span><br />\n<br />\n<span style="background-color:rgb(255\, 255\, 255)\; color:rgb(34\, 34\, 34)\; font-family:arial\,helvetica\,sans-serif\; font-size:small">Seating is limited to the first 30 people who RSVP\, so please call our automated phone line 24 hours a day and&nbsp\;</span><strong>use the code 0932 to reserve your place</strong><span style="background-color:rgb(255\, 255\, 255)\; color:rgb(34\, 34\, 34)\; font-family:arial\,helvetica\,sans-serif\; font-size:small">.</span><br />\n<br />\n<span style="background-color:rgb(255\, 255\, 255)\; color:rgb(34\, 34\, 34)\; font-family:arial\,helvetica\,sans-serif\; font-size:small">The address is 1302 S Main St.\, Weatherford\, TX 76086</span>
LOCATION:1302 S Main St. Weatherford\, Texas 76086
UID:e.2477.20330
SEQUENCE:3
DTSTAMP:20260423T103046Z
URL:http://business.parkercountychamber.com/events/details/march-food-for-thought-03-26-2025-20330
END:VEVENT

END:VCALENDAR
