BEGIN:VCALENDAR
VERSION:2.0
PRODID:-//ChamberMaster//Event Calendar 2.0//EN
METHOD:PUBLISH
X-PUBLISHED-TTL:P3D
REFRESH-INTERVAL:P3D
CALSCALE:GREGORIAN
BEGIN:VEVENT
DTSTART:20250625T200000Z
DTEND:20250625T220000Z
X-MICROSOFT-CDO-ALLDAYEVENT:FALSE
SUMMARY:Major Perk's Veteran's Social Hour
DESCRIPTION:Come enjoy great conversation and fellowship with fellow veterans in the community.
X-ALT-DESC;FMTTYPE=text/html:Come enjoy great conversation and fellowship with fellow veterans in the community.
LOCATION:177 Center Point Road Weatherford\, Texas 76087
UID:e.2477.20547
SEQUENCE:3
DTSTAMP:20260423T055252Z
URL:http://business.parkercountychamber.com/events/details/major-perk-s-veteran-s-social-hour-06-25-2025-20547
END:VEVENT

END:VCALENDAR
