BEGIN:VCALENDAR
VERSION:2.0
PRODID:-//ChamberMaster//Event Calendar 2.0//EN
METHOD:PUBLISH
X-PUBLISHED-TTL:P3D
REFRESH-INTERVAL:P3D
CALSCALE:GREGORIAN
BEGIN:VEVENT
DTSTART:20250614T150000Z
DTEND:20250614T190000Z
X-MICROSOFT-CDO-ALLDAYEVENT:FALSE
SUMMARY:Major Perk Animal Adoption Event
DESCRIPTION:Come help support the Parker County/Weatherford Animal Shelter in our annual adoption event.
X-ALT-DESC;FMTTYPE=text/html:Come help support the Parker County/Weatherford Animal Shelter in our annual adoption event. &nbsp\;
LOCATION:177 Center Point Road\, Weatherford\, Texas 76087
UID:e.2477.20412
SEQUENCE:3
DTSTAMP:20260423T055105Z
URL:http://business.parkercountychamber.com/events/details/major-perk-animal-adoption-event-20412
END:VEVENT

END:VCALENDAR
