BEGIN:VCALENDAR
VERSION:2.0
PRODID:-//ChamberMaster//Event Calendar 2.0//EN
METHOD:PUBLISH
X-PUBLISHED-TTL:P3D
REFRESH-INTERVAL:P3D
CALSCALE:GREGORIAN
BEGIN:VEVENT
DTSTART:20240123T170000Z
DTEND:20240123T200000Z
X-MICROSOFT-CDO-ALLDAYEVENT:FALSE
SUMMARY:Lynch Legacy eXp Learn How to Grow Your Business
DESCRIPTION:Learn how to grow your Real Estate Business\,  Lead Generation Sources. \n\nAnd opportunity to make more money!  Learn how Lynch legacy eXp grew their business\, increased their revenue and found success with eXp Realty.Lunch Provided
X-ALT-DESC;FMTTYPE=text/html:Learn how to grow your Real Estate Business\,&nbsp\; Lead Generation Sources.&nbsp\;<br />\nAnd opportunity to make more money!&nbsp\; Learn how Lynch legacy eXp grew their business\, increased their revenue and found success with eXp Realty.Lunch Provided
LOCATION:Los Vaqueros 4899 East I-20 Frontage Road Willow Park\, Texas 76087
UID:e.2477.19213
SEQUENCE:3
DTSTAMP:20260424T112244Z
URL:http://business.parkercountychamber.com/events/details/lynch-legacy-exp-learn-how-to-grow-your-business-19213
END:VEVENT

END:VCALENDAR
