BEGIN:VCALENDAR
VERSION:2.0
PRODID:-//ChamberMaster//Event Calendar 2.0//EN
METHOD:PUBLISH
X-PUBLISHED-TTL:P3D
REFRESH-INTERVAL:P3D
CALSCALE:GREGORIAN
BEGIN:VEVENT
DTSTART:20240518T190000Z
DTEND:20240518T210000Z
X-MICROSOFT-CDO-ALLDAYEVENT:FALSE
SUMMARY:LUXURY LISTING OPEN HOUSE COCKTAIL PARTY
DESCRIPTION:You are Invited to a Luxury Open House Hosted by Cortney Caylor-Chairitable Reality. Enjoy the open bar and sip on handcrafted cocktails and premium spirits. Immerse yourself in the ultimate cinematic experience\, Live DJ\, Permanent Jewelry and Dysport Injections.Don't miss your chance to view this luxury Bella Flora Home.
X-ALT-DESC;FMTTYPE=text/html:You are Invited to a Luxury Open House Hosted by Cortney Caylor-Chairitable Reality. Enjoy the open bar and sip on handcrafted cocktails and premium spirits. Immerse yourself in the ultimate cinematic experience\, Live DJ\, Permanent Jewelry and Dysport Injections.Don&#39\;t miss your chance to view this luxury Bella Flora Home.<br />\n&nbsp\;
LOCATION:7809 Bella Flora Dr Fort Worth TX 76126
UID:e.2477.19419
SEQUENCE:3
DTSTAMP:20260424T040945Z
URL:http://business.parkercountychamber.com/events/details/luxury-listing-open-house-cocktail-party-19419
END:VEVENT

END:VCALENDAR
