BEGIN:VCALENDAR
VERSION:2.0
PRODID:-//ChamberMaster//Event Calendar 2.0//EN
METHOD:PUBLISH
X-PUBLISHED-TTL:P3D
REFRESH-INTERVAL:P3D
CALSCALE:GREGORIAN
BEGIN:VEVENT
DTSTART:20240417T160000Z
DTEND:20240417T170000Z
X-MICROSOFT-CDO-ALLDAYEVENT:FALSE
SUMMARY:Lunch & Learn for Realtors: 15 Essential Videos fo Real Estate Marketing
DESCRIPTION:Description:\n\nThe National Association of REALTORS (NAR) says\n\nreal estate listings with video receive 403% more\n\ninquiries than those with no video. 73% of\n\nHomebuyers are more likely to list with a REALTOR\n\nwho offers video but only 4% of agents put their\n\nlistings on YouTube. Agents who want to stay\n\ncurrent and on top of their game need to harness\n\nthe power of online video.\n \n\nLunch provided.\n\nRegistration and Networking from 10:30 AM - 11:00 AM\n\n$5 for 1 hr non-CE.\n \n\nInstructed by: Glenda White - NXT Mortgage - NMLS# 843034\n \n\nSponsored by:\n\nSparkles Belt - Capital Title Weatherford\n\nGlenda White - NXT Mortgage\n\nMegan Becerra - Goosehead Insurance\n\nCindy Davis - First American Home Warranty\n\nMary Peterson - Elite Foundation Repairs\n\nStephanie Howard - Ann Aaron Roofing
X-ALT-DESC;FMTTYPE=text/html:<div>Description:<br />\nThe National Association of REALTORS (NAR) says<br />\nreal estate listings with video receive 403% more<br />\ninquiries than those with no video. 73% of<br />\nHomebuyers are more likely to list with a REALTOR<br />\nwho offers video but only 4% of agents put their<br />\nlistings on YouTube. Agents who want to stay<br />\ncurrent and on top of their game need to harness<br />\nthe power of online video.</div>\n&nbsp\;\n\n<div>Lunch provided.<br />\nRegistration and Networking from 10:30 AM - 11:00 AM<br />\n$5 for 1 hr non-CE.</div>\n&nbsp\;\n\n<div>Instructed by: Glenda White - NXT Mortgage - NMLS# 843034</div>\n&nbsp\;\n\n<div>Sponsored by:<br />\nSparkles Belt - Capital Title Weatherford<br />\nGlenda White - NXT Mortgage<br />\nMegan Becerra - Goosehead Insurance<br />\nCindy Davis - First American Home Warranty<br />\nMary Peterson - Elite Foundation Repairs<br />\nStephanie Howard - Ann Aaron Roofing&nbsp\;</div>\n
LOCATION:Sheps 202 Fort Worth Hwy Weatherford TX 76087
UID:e.2477.19395
SEQUENCE:3
DTSTAMP:20260424T071514Z
URL:http://business.parkercountychamber.com/events/details/lunch-learn-for-realtors-15-essential-videos-fo-real-estate-marketing-19395
END:VEVENT

END:VCALENDAR
