BEGIN:VCALENDAR
VERSION:2.0
PRODID:-//ChamberMaster//Event Calendar 2.0//EN
METHOD:PUBLISH
X-PUBLISHED-TTL:P3D
REFRESH-INTERVAL:P3D
CALSCALE:GREGORIAN
BEGIN:VEVENT
DTSTART:20241021T170000Z
DTEND:20241021T180000Z
X-MICROSOFT-CDO-ALLDAYEVENT:FALSE
SUMMARY:Lunch and Learn - Rotary Club of Aledo
DESCRIPTION:Join us for the Rotary Club of Aledo Lunch and Learn\n\n\n\n1st and 3rd Mondays (except holidays)\n\n12-1pm\n\n\n\nSunnystreet Cafe Willow Park\n\nGet to know us over lunch and learn about an organization doing good work in our community or a business topic.\n\n\n\nFREE to attend\, dutch treat lunch\n\nNo RSVP necessary\n\nQuestions? Contact Lauren Burge Director\, Regional Engagement for Tarrant Area Food Bank West\, Phone: (682) 368-3005
X-ALT-DESC;FMTTYPE=text/html:<div>\n<div>Join us for the Rotary Club of Aledo Lunch and Learn</div>\n</div>\n\n<div>\n<div>1st and 3rd Mondays (except holidays)</div>\n\n<div>12-1pm</div>\n</div>\n\n<div>\n<div>Sunnystreet Cafe Willow Park</div>\n\n<div>Get to know us over lunch and learn about an organization doing good work in our community or a business topic.</div>\n</div>\n\n<div>\n<div>FREE to attend\, dutch treat lunch</div>\n\n<div>No RSVP necessary</div>\n\n<div>Questions? Contact&nbsp\;<span style="font-weight: bold\;">Lauren Burge&nbsp\;</span>Director\, Regional Engagement for Tarrant Area Food Bank West\,&nbsp\;<span class="gz-rep-phone" style="box-sizing: border-box\;">Phone:</span>&nbsp\;<span class="gz-rep-phone-num" style="box-sizing: border-box\;">(682) 368-3005</span></div>\n&nbsp\;\n\n<div>&nbsp\;</div>\n</div>\n
LOCATION:Sunny Street Cafe Willow Park 229 Shops Blvd Suite 103\, Willow Park\, TX 76087
UID:e.2477.19433
SEQUENCE:3
DTSTAMP:20260423T224804Z
URL:http://business.parkercountychamber.com/events/details/lunch-and-learn-rotary-club-of-aledo-10-21-2024-19433
END:VEVENT

END:VCALENDAR
