BEGIN:VCALENDAR
VERSION:2.0
PRODID:-//ChamberMaster//Event Calendar 2.0//EN
METHOD:PUBLISH
X-PUBLISHED-TTL:P3D
REFRESH-INTERVAL:P3D
CALSCALE:GREGORIAN
BEGIN:VEVENT
DTSTART:20240124T172500Z
DTEND:20240124T193000Z
X-MICROSOFT-CDO-ALLDAYEVENT:FALSE
SUMMARY:Lunch and Learn
DESCRIPTION:Enjoy a FREE LUNCH and learn how you can ease the emotional and financial burden on your family by preplanning your funeral.
X-ALT-DESC;FMTTYPE=text/html:<span style="background-color:rgb(255\, 255\, 255)\; color:rgb(5\, 5\, 5)\; font-family:segoe ui historic\,segoe ui\,helvetica\,arial\,sans-serif\; font-size:15px">Enjoy a FREE LUNCH and learn how you can ease the emotional and financial burden on your family by preplanning your funeral.</span>
LOCATION:Rio Mambo 1302 S Main St.\, Weatherford\, Texas 76086
UID:e.2477.19210
SEQUENCE:3
DTSTAMP:20260424T095140Z
URL:http://business.parkercountychamber.com/events/details/lunch-and-learn-01-24-2024-19210
END:VEVENT

END:VCALENDAR
