BEGIN:VCALENDAR
VERSION:2.0
PRODID:-//ChamberMaster//Event Calendar 2.0//EN
METHOD:PUBLISH
X-PUBLISHED-TTL:P3D
REFRESH-INTERVAL:P3D
CALSCALE:GREGORIAN
BEGIN:VEVENT
DTSTART;VALUE=DATE:20210607
DTEND;VALUE=DATE:20210708
TRANSP:TRANSPARENT
X-MICROSOFT-CDO-ALLDAYEVENT:TRUE
SUMMARY:Liquor Petition for Willow Park
DESCRIPTION:We are ready once again to get our liquor petition!!\n\nShout out to all our Willow Park friends to kindly head to our store & sign the petition.\n\nIf you know anyone or have friends or family who live in Willow Park please send them to\n\nFastRun in Willow Park next to Pizza Hut!!\n\nPlease contact store for any help with directions\n\n682-224-6343
X-ALT-DESC;FMTTYPE=text/html:<span style="background:white\;"><span style="color:#050505\;"><span style="font-family:segoe ui historic\,sans-serif\;"><span style="font-size:14.0pt\;">We are ready once again to get our liquor petition!!</span></span></span></span><br />\n<span style="color:#050505\;"><span style="font-family:segoe ui historic\,sans-serif\;"><span style="font-size:14.0pt\;"><span style="background:white\;">Shout out to all our Willow Park friends to kindly head to our store &amp\; sign the petition.</span><br />\n<span style="background:white\;">If you know anyone or have friends or family who live in Willow Park please send them to</span><br />\n<span style="background:white\;">FastRun in Willow Park next to Pizza Hut!!</span><br />\n<span style="background:white\;">Please contact store for any help with directions</span><br />\n<span style="background:white\;">682-224-6343</span></span></span></span>
LOCATION:
UID:e.2477.15500
SEQUENCE:3
DTSTAMP:20260426T041857Z
URL:http://business.parkercountychamber.com/events/details/liquor-petition-for-willow-park-15500
END:VEVENT

END:VCALENDAR
