BEGIN:VCALENDAR
VERSION:2.0
PRODID:-//ChamberMaster//Event Calendar 2.0//EN
METHOD:PUBLISH
X-PUBLISHED-TTL:P3D
REFRESH-INTERVAL:P3D
CALSCALE:GREGORIAN
BEGIN:VEVENT
DTSTART:20250716T200000Z
DTEND:20250716T200000Z
X-MICROSOFT-CDO-ALLDAYEVENT:FALSE
SUMMARY:LEMONDADE AND LEASHES: A LEMONDADE AND POOCH PARADE
DESCRIPTION:Come join us as we kick off Summer with a refreshing Lemonade drink contest!  Everyone will sample the entries and choose best tasting Lemonade.  We will also enjoy a fun Summer themed dog costume contest with all present choosing the best pooch in the parade. \n\n\n\n**prize for the winners
X-ALT-DESC;FMTTYPE=text/html:Come join us as we kick off Summer with a refreshing Lemonade drink contest!&nbsp\; Everyone will sample the entries and choose best tasting Lemonade.&nbsp\; We will also enjoy a fun Summer themed dog costume contest with all present choosing the best pooch in the parade.&nbsp\;<br />\n<br />\n**prize for the winners
LOCATION:178 Crown Pointe Willow Park\, Texas 76087
UID:e.2477.20598
SEQUENCE:3
DTSTAMP:20260423T042621Z
URL:http://business.parkercountychamber.com/events/details/lemondade-and-leashes-a-lemondade-and-pooch-parade-20598
END:VEVENT

END:VCALENDAR
