BEGIN:VCALENDAR
VERSION:2.0
PRODID:-//ChamberMaster//Event Calendar 2.0//EN
METHOD:PUBLISH
X-PUBLISHED-TTL:P3D
REFRESH-INTERVAL:P3D
CALSCALE:GREGORIAN
BEGIN:VEVENT
DTSTART:20250123T193000Z
DTEND:20250124T003000Z
X-MICROSOFT-CDO-ALLDAYEVENT:FALSE
SUMMARY:Learn how to protect yourself from Fraudulent Activity
DESCRIPTION:Please join our free seminar on how to protect yourself and loved ones from fraudulent activity.\n\n \n\nWeatherford Police Department\n\n614 Fort Worth Hwy\, Weatherford\, TX 76086\n\n \n\nTwo sessions will be hosted on Thursday\, January 23rd @ 1:30 PM or 5:30 PM.\n\n \n\nSeating is limited so please RSVP TODAY.
X-ALT-DESC;FMTTYPE=text/html:<p style="text-align:center"><strong><span style="font-size:12.0pt">Please join our free seminar on how to protect yourself and loved ones from fraudulent activity.</span></strong></p>\n\n<p style="text-align:center"><strong><span style="font-size:12.0pt">&nbsp\;</span></strong></p>\n\n<p style="text-align:center"><strong><span style="font-size:12.0pt">Weatherford Police Department</span></strong></p>\n\n<p style="text-align:center"><strong><span style="font-size:12.0pt">614 Fort Worth Hwy\, Weatherford\, TX 76086</span></strong></p>\n\n<p style="text-align:center"><strong><span style="font-size:12.0pt">&nbsp\;</span></strong></p>\n\n<p style="text-align:center"><strong><span style="font-size:12.0pt">Two sessions will be hosted on Thursday\, January 23<sup>rd</sup> @ 1:30 PM or 5:30 PM.</span></strong></p>\n\n<p style="text-align:center"><strong><span style="font-size:12.0pt">&nbsp\;</span></strong></p>\n\n<p style="text-align:center"><strong><span style="font-size:12.0pt">Seating is limited so please RSVP TODAY.</span></strong></p>\n
LOCATION:Weatherford Police Department 614 Fort Worth Hwy\, Weatherford\, TX 76086
UID:e.2477.20107
SEQUENCE:3
DTSTAMP:20260423T132414Z
URL:http://business.parkercountychamber.com/events/details/learn-how-to-protect-yourself-from-fraudulent-activity-20107
END:VEVENT

END:VCALENDAR
