BEGIN:VCALENDAR
VERSION:2.0
PRODID:-//ChamberMaster//Event Calendar 2.0//EN
METHOD:PUBLISH
X-PUBLISHED-TTL:P3D
REFRESH-INTERVAL:P3D
CALSCALE:GREGORIAN
BEGIN:VEVENT
DTSTART:20220316T130000Z
DTEND:20220316T220000Z
X-MICROSOFT-CDO-ALLDAYEVENT:FALSE
SUMMARY:Leadership East Parker County
DESCRIPTION:
X-ALT-DESC;FMTTYPE=text/html:
LOCATION:
UID:e.2477.15536
SEQUENCE:3
DTSTAMP:20260425T170624Z
URL:http://business.parkercountychamber.com/events/details/leadership-east-parker-county-15536
END:VEVENT

END:VCALENDAR
