BEGIN:VCALENDAR
VERSION:2.0
PRODID:-//ChamberMaster//Event Calendar 2.0//EN
METHOD:PUBLISH
X-PUBLISHED-TTL:P3D
REFRESH-INTERVAL:P3D
CALSCALE:GREGORIAN
BEGIN:VEVENT
DTSTART:20210929T130000Z
DTEND:20210929T220000Z
X-MICROSOFT-CDO-ALLDAYEVENT:FALSE
SUMMARY:Leadership East Parker County
DESCRIPTION:
X-ALT-DESC;FMTTYPE=text/html:
LOCATION:
UID:e.2477.15530
SEQUENCE:3
DTSTAMP:20260426T012114Z
URL:http://business.parkercountychamber.com/events/details/leadership-east-parker-county-09-29-2021-15530
END:VEVENT

END:VCALENDAR
