BEGIN:VCALENDAR
VERSION:2.0
PRODID:-//ChamberMaster//Event Calendar 2.0//EN
METHOD:PUBLISH
X-PUBLISHED-TTL:P3D
REFRESH-INTERVAL:P3D
CALSCALE:GREGORIAN
BEGIN:VEVENT
DTSTART:20220321T010000Z
DTEND:20220321T030000Z
X-MICROSOFT-CDO-ALLDAYEVENT:FALSE
SUMMARY:LAST GAS by John Cariani
DESCRIPTION:Theatre Off The Square proudly presents its 2nd show of the 23rd Season of Shows\, "Last Gas"\, by John Cariani\, produced by special arrangement with Dramatists Play Service\, Inc. This production is directed by Jacob Myers\, with Madeline Eidelbach as the assistant director\, and Mark Gillies serving as stage manager. The show begins Friday\, March 11 and runs weekends through March 27. Show times are Friday and Saturday at 8 p.m. and Sunday at 2 p.m. Theatre Off The Square is located at 114 North Denton Street\, Weatherford. \n\n \n\nASL interpreters will be at the performance on Saturday\, March 19 at 8:00 pm. Services are provided through a partnership with the American Sign Language Interpreting Program of Tarrant County College Trinity River Campus.\n\n \n\nNat Paradis is a Red Sox-loving part-time dad who manages Paradis' Last Convenient Store\, the last convenient place to get gas or anything before the Canadian border to the north and the North Maine Woods to the west. When an old flame returns to town\, Nat gets a chance to rekindle a romance he gave up on years ago. But sparks fly as he's forced to choose between new love and old. LAST GAS takes a hilarious and heartbreakingly hard look at love lost and found\, and at what it means to "get back to happy."\n\n \n\nThe cast is as follows:  Nat Paradis - Garrett Tucker\; Troy Paradis-Pulcifer - Matthew Foster\; Guy Gagnon - Thomas Vigil\; Dwight Paradis - Lisle Justice\; Cherry-Tracy Pulcifer - Michelle Newman\; Lurene Legassey Soloway - Dana Powers\; and Voiceovers - Dirk Green\, Amanda Johnson\, and Dan Parris.
X-ALT-DESC;FMTTYPE=text/html:<span style="color:black"><span style="font-family:times new roman\,serif">Theatre Off The Square proudly presents its 2<sup>nd</sup> show of the 23<sup>rd</sup> Season of Shows\, &ldquo\;Last Gas&rdquo\;</span></span><span style="font-family:times new roman\,serif">\, by John Cariani\, produced by special arrangement with Dramatists Play Service\, Inc. This production is directed by Jacob Myers\, with Madeline Eidelbach as the assistant director\, and Mark Gillies serving as stage manager. </span><span style="font-family:times new roman\,serif">The </span><span style="font-family:times new roman\,serif">show begins Friday\, March 11 and runs weekends through March 27. </span><span style="font-family:times new roman\,serif">Show times are Friday and Saturday at 8 p.m. and Sunday at 2 p.m. Theatre Off The Square is located at 114 North Denton Street\, Weatherford. </span><br />\n&nbsp\;<br />\n<span style="font-size:11.0pt">ASL interpreters will be at the performance on Saturday\, March 19 at 8:00 pm. Services are provided through a partnership with the American Sign Language Interpreting Program of Tarrant County College Trinity River Campus.</span><br />\n&nbsp\;<br />\n<span style="font-family:times new roman\,serif">Nat Paradis is a Red Sox-loving part-time dad who manages Paradis&rsquo\; Last Convenient Store\, the last convenient place to get gas&mdash\;or anything&mdash\;before the Canadian border to the north and the North Maine Woods to the west. When an old flame returns to town\, Nat gets a chance to rekindle a romance he gave up on years ago. But sparks fly as he&rsquo\;s forced to choose between new love and old. LAST GAS takes a hilarious and heartbreakingly hard look at love lost and found\, and at what it means to &ldquo\;get back to happy.&quot\;</span><br />\n&nbsp\;<br />\n<span style="font-family:times new roman\,serif">The cast is as follows:&nbsp\; </span><span style="font-family:times new roman\,serif">Nat Paradis - Garrett Tucker\; Troy Paradis-Pulcifer - Matthew Foster\; Guy Gagnon - Thomas Vigil\; Dwight Paradis - Lisle Justice\; Cherry-Tracy Pulcifer - Michelle Newman\; Lurene Legassey Soloway - Dana Powers\; and </span><span style="font-family:times new roman\,serif">Voiceovers - </span><span style="font-family:times new roman\,serif">Dirk Green\, Amanda Johnson\, and Dan Parris.</span><br />\n&nbsp\;
LOCATION:Theatre Off The Square 114 North Denton Street Weatherford 76086
UID:e.2477.17531
SEQUENCE:3
DTSTAMP:20260425T171755Z
URL:http://business.parkercountychamber.com/events/details/last-gas-by-john-cariani-03-20-2022-17531
END:VEVENT

END:VCALENDAR
