BEGIN:VCALENDAR
VERSION:2.0
PRODID:-//ChamberMaster//Event Calendar 2.0//EN
METHOD:PUBLISH
X-PUBLISHED-TTL:P3D
REFRESH-INTERVAL:P3D
CALSCALE:GREGORIAN
BEGIN:VEVENT
DTSTART:20250615T190000Z
DTEND:20250615T210000Z
X-MICROSOFT-CDO-ALLDAYEVENT:FALSE
SUMMARY:King Lear
DESCRIPTION:KING LEAR\n\n\n\nIn William Shakespeare's tragedy\, King Lear\, an aging king divides his kingdom among his three daughters\, Goneril\, Regan\, and Cordelia\, based on how much they profess to love him. The play explores themes of family\, power\, and the corrupting influence of flattery\, ultimately resulting in a tragic loss of life.\n\n\n\nJune 12-14 @ 7 p.m.\n\nJune 15 @ 2 p.m.
X-ALT-DESC;FMTTYPE=text/html:<strong>KING LEAR</strong><br />\n<br />\n<span style="color:rgb(49\, 49\, 49)\; font-family:arial\,helvetica\,verdana\,tahoma\,sans-serif\; font-size:14px">In William Shakespeare&#39\;s tragedy\, King Lear\, an aging king divides his kingdom among his three daughters\, Goneril\, Regan\, and Cordelia\, based on how much they profess to love him. The play explores themes of family\, power\, and the corrupting influence of flattery\, ultimately resulting in a tragic loss of life.</span><br />\n<br />\n<span style="color:rgb(49\, 49\, 49)\; font-family:arial\,helvetica\,verdana\,tahoma\,sans-serif\; font-size:14px">June 12-14 @ 7 p.m.</span><br />\n<span style="color:rgb(49\, 49\, 49)\; font-family:arial\,helvetica\,verdana\,tahoma\,sans-serif\; font-size:14px">June 15 @ 2 p.m.</span>
LOCATION:Weatherford College Alkek Fine Arts Center 225 College Park Dr. Weatherford\, TX 76086
UID:e.2477.20399
SEQUENCE:3
DTSTAMP:20260423T054729Z
URL:http://business.parkercountychamber.com/events/details/king-lear-06-15-2025-20399
END:VEVENT

END:VCALENDAR
