BEGIN:VCALENDAR
VERSION:2.0
PRODID:-//ChamberMaster//Event Calendar 2.0//EN
METHOD:PUBLISH
X-PUBLISHED-TTL:P3D
REFRESH-INTERVAL:P3D
CALSCALE:GREGORIAN
BEGIN:VEVENT
DTSTART:20231201T230000Z
DTEND:20231202T050000Z
X-MICROSOFT-CDO-ALLDAYEVENT:FALSE
SUMMARY:Keri Licik and Presley Lyn Haile Performance
DESCRIPTION:The Heidaway Art Gallery is hosting a Meet and Greet from 5:00 - 7:00  for the 5150 Farm Rescue Fundraiser with a live performance from Kerri Lick and Presley Lyn Haile at 7:15 PM
X-ALT-DESC;FMTTYPE=text/html:The Heidaway Art Gallery is hosting a Meet and Greet from 5:00 - 7:00&nbsp\; for the 5150 Farm Rescue Fundraiser with a live performance from Kerri Lick and Presley Lyn Haile at 7:15 PM
LOCATION:5:00 - Heidaway Art Gallery 119 N Main St Weatherford\, Tx 7:00 - The Peach 113 N Main Weatherford TX
UID:e.2477.19186
SEQUENCE:3
DTSTAMP:20260424T112208Z
URL:http://business.parkercountychamber.com/events/details/keri-licik-and-presley-lyn-haile-performance-19186
END:VEVENT

END:VCALENDAR
