BEGIN:VCALENDAR
VERSION:2.0
PRODID:-//ChamberMaster//Event Calendar 2.0//EN
METHOD:PUBLISH
X-PUBLISHED-TTL:P3D
REFRESH-INTERVAL:P3D
CALSCALE:GREGORIAN
BEGIN:VEVENT
DTSTART:20241027T190000Z
DTEND:20241027T220000Z
X-MICROSOFT-CDO-ALLDAYEVENT:FALSE
SUMMARY:Jekyll & Hyde the Musical
DESCRIPTION:JEKYLL & HYDE\n\nConceived for the stage by Steve Cuden & Frank Wildhorn\n\nBook and Lyrics by Leslie Bricusse\n\nMusic By Frank Wildhorn\n\nOrchestrations by Kim Scharnberg\n\nArrangements by Jason Howland\n\nOctober 27 at 2:00 P.M. at the Weatherford College Alkek Fine Arts Center \n\nAll Songs are: Lyrics by Leslie Bricusse and Music by Frank Wildhorn\, except "Alive" (including "Alive (reprise)")\, "First Transformation"\, "His Work And Nothing More"\, "Once Upon A Dream"\, and "Murder! Murder!"\, which have lyrics by Steve Cuden\, Leslie Bricusse\, and Frank Wildhorn & Music by Frank Wildhorn Original Broadway Production by PACE Theatrical Group\, Inc.\nJekyll & Hyde (B'Way) is presented through special arrangement with Musical Theatre International (MTI).  All authorized performance materials are also supplied by MTI.\n\nwww.mtishows.com\n\n \nProduction is licensed by Music Theatre International.
X-ALT-DESC;FMTTYPE=text/html:<p style="text-align:center"><span style="font-size:14px">JEKYLL &amp\; HYDE</span><br />\n<span style="font-size:14px">Conceived for the stage by Steve Cuden &amp\; Frank Wildhorn</span><br />\n<span style="font-size:14px">Book and Lyrics by Leslie Bricusse</span><br />\n<span style="font-size:14px">Music By Frank Wildhorn</span><br />\n<span style="font-size:14px">Orchestrations by Kim Scharnberg</span><br />\n<span style="font-size:14px">Arrangements by Jason Howland</span></p>\n\n<p><span style="font-size:14px">October 27 at 2:00 P.M. at the Weatherford College Alkek Fine Arts Center&nbsp\;</span></p>\n\n<p><span style="font-size:14px">All Songs are: Lyrics by Leslie Bricusse and Music by Frank Wildhorn\, except &quot\;Alive&quot\; (including &quot\;Alive (reprise)&quot\;)\, &quot\;First Transformation&quot\;\, &quot\;His Work And Nothing More&quot\;\, &quot\;Once Upon A Dream&quot\;\, and &quot\;Murder! Murder!&quot\;\, which have lyrics by Steve Cuden\, Leslie Bricusse\, and Frank Wildhorn &amp\; Music by Frank Wildhorn Original Broadway Production by PACE Theatrical Group\, Inc.</span></p>\n<span style="color:rgb(0\, 0\, 0)\; font-family:-apple-system\,system-ui\,segoe ui\,roboto\,helvetica\,arial\,sans-serif\,apple color emoji\,segoe ui emoji\,segoe ui symbol\; font-size:14px">Jekyll &amp\; Hyde (B&#39\;Way) is presented through special arrangement with Musical Theatre International (MTI).&nbsp\; All authorized performance materials are also supplied by MTI.</span><br />\n<a href="https://www.mtishows.com/" style="font-family: -apple-system\, &quot\;system-ui&quot\;\, &quot\;Segoe UI&quot\;\, Roboto\, Helvetica\, Arial\, sans-serif\, &quot\;Apple Color Emoji&quot\;\, &quot\;Segoe UI Emoji&quot\;\, &quot\;Segoe UI Symbol&quot\;\;"><span style="font-size:14px">www.mtishows.com</span></a><br />\n&nbsp\;\n<div style="text-align:center"><span style="font-size:14px">Production is licensed by Music Theatre International.</span></div>\n
LOCATION:Weatherford College Alkek Fine Arts Center 239 College Park Dr
UID:e.2477.19986
SEQUENCE:3
DTSTAMP:20260423T211536Z
URL:http://business.parkercountychamber.com/events/details/jekyll-hyde-the-musical-10-27-2024-19986
END:VEVENT

END:VCALENDAR
