BEGIN:VCALENDAR
VERSION:2.0
PRODID:-//ChamberMaster//Event Calendar 2.0//EN
METHOD:PUBLISH
X-PUBLISHED-TTL:P3D
REFRESH-INTERVAL:P3D
CALSCALE:GREGORIAN
BEGIN:VEVENT
DTSTART:20220423T003000Z
DTEND:20220423T020000Z
X-MICROSOFT-CDO-ALLDAYEVENT:FALSE
SUMMARY:It's All About the Music
DESCRIPTION:Jazz and Fine Arts Event
X-ALT-DESC;FMTTYPE=text/html:Jazz and Fine Arts Event
LOCATION:Alkek Fine Arts Center at Weatherford College
UID:e.2477.17752
SEQUENCE:3
DTSTAMP:20260425T154241Z
URL:http://business.parkercountychamber.com/events/details/it-s-all-about-the-music-17752
END:VEVENT

END:VCALENDAR
