BEGIN:VCALENDAR
VERSION:2.0
PRODID:-//ChamberMaster//Event Calendar 2.0//EN
METHOD:PUBLISH
X-PUBLISHED-TTL:P3D
REFRESH-INTERVAL:P3D
CALSCALE:GREGORIAN
BEGIN:VEVENT
DTSTART:20250404T000000Z
DTEND:20250404T020000Z
X-MICROSOFT-CDO-ALLDAYEVENT:FALSE
SUMMARY:It's All About the Music
DESCRIPTION:Join us for Duane Durrett's annual "It's All About the Music."  The evening will feature Shelley Carrol.
X-ALT-DESC;FMTTYPE=text/html:<span style="color:rgb(0\, 0\, 0)\; font-family:-apple-system\,system-ui\,segoe ui\,roboto\,helvetica\,arial\,sans-serif\,apple color emoji\,segoe ui emoji\,segoe ui symbol">Join us for Duane Durrett&rsquo\;s annual &ldquo\;It&rsquo\;s All About the Music.&quot\;&nbsp\; The evening will feature Shelley Carrol.</span>
LOCATION:Weatherford College Emerging Technologies and Workforce Building: 3rd Floor. 225 College Park Dr. Weatherford\, TX 76086
UID:e.2477.20307
SEQUENCE:3
DTSTAMP:20260423T085845Z
URL:http://business.parkercountychamber.com/events/details/it-s-all-about-the-music-04-03-2025-20307
END:VEVENT

END:VCALENDAR
