BEGIN:VCALENDAR
VERSION:2.0
PRODID:-//ChamberMaster//Event Calendar 2.0//EN
METHOD:PUBLISH
X-PUBLISHED-TTL:P3D
REFRESH-INTERVAL:P3D
CALSCALE:GREGORIAN
BEGIN:VEVENT
DTSTART:20211218T020000Z
DTEND:20211218T040000Z
X-MICROSOFT-CDO-ALLDAYEVENT:FALSE
SUMMARY:IT’S A WONDERFUL LIFE\, A LIVE RADIO PLAY
DESCRIPTION:Theatre Off The Square proudly presents "IT'S A WONDERFUL LIFE\, A LIVE RADIO PLAY" based on the story\, "The Greatest Gift" by Philip Van Doren Stern\, adapted by Joe Landry\, and produced by special arrangement with Playscripts\, Inc. This play is directed by Marilyn Sanderson and the assistant director is Charlotte Wasson. The show begins Friday\, December 3 and runs weekends through December 19. Show times are Friday and Saturday at 8 p.m. and Sunday at 2 p.m. Theatre Off The Square is located at 114 North Denton Street\, Weatherford.\n\n \n\nASL interpreters will be at the performance on Saturday\, December 11 at 8:00 pm. Services are provided through a partnership with the American Sign Language Interpreting Program of Tarrant County College Trinity River Campus.\n\n \n\nThis beloved American holiday classic comes to captivating life as a live 1940s radio broadcast. With the help of an ensemble that brings a few dozen characters to the stage\, the story of idealistic George Bailey unfolds as he considers ending his life one fateful Christmas Eve.\n\n \n\nThe cast includes:  Zuzu   Blakely Britton\; Sadie   Justina Cadwell\; Mrs. Thompson   Dana Chestnut\; Violet/Young Violet   Mia Currie\; Bridgekeeper/Horace the Teller/Binky/Tommy/Bert   Matthew Foster\; George Bailey/Young George Bailey   Mark Gillies\; Sam Wainwright/Charlie/Dr. Campbell/Mr. Welch/Harry   Dirk Green\; Ruth Dakin Bailey/Woman/Matilda   Linda Hardin\; Henry F. Potter/Old Man Gower/Nick   Jacob Myers\; Mary Hatch Bailey/Young Mary Hatch   Toni Ogle\; Rose\n\nBailey/Shultz/Janie Bailey   Dana Powers\; Mrs. Hatch   Julie Self\; Clarence the Angel   Lynn Self\;\n\nJoseph/Ernie/Cop   Mike Smiddy\; Announcer/Peter Bailey/Billy Bailey/Old Man Collins/Pete Bailey/Man   Garrett Tucker\; Martini/Ed/Sheriff   Thomas Vigil\; Foley Artist   Dan Parris\;\n\nAssistant Foley Artist   Carson Luke.\n\nAs a courtesy to our patrons\, we strongly encourage the wearing of masks for all those attending. \n\n2022 Flex packages are on sale now for $100! The Flex Package comes with 7 "flex credits" (tickets) that can be redeemed for admission to any mainstage show in our 2022 season.
X-ALT-DESC;FMTTYPE=text/html:<span style="color:black"><span style="font-family:times new roman\,serif">Theatre Off The Square proudly presents &ldquo\;IT&rsquo\;S A WONDERFUL LIFE\, A LIVE RADIO PLAY&rdquo\; </span></span><span style="font-family:times new roman\,serif">based on the story\, &quot\;The Greatest Gift&quot\;&nbsp\;by Philip Van Doren Stern\, adapted by Joe Landry\, and produced by special arrangement with Playscripts\, Inc. This play is directed by Marilyn Sanderson and the assistant director is Charlotte Wasson. </span><span style="font-family:times new roman\,serif">The </span><span style="font-family:times new roman\,serif">show begins Friday\, December 3 and runs weekends through December 19. </span><span style="font-family:times new roman\,serif">Show times are Friday and Saturday at 8 p.m. and Sunday at 2 p.m. Theatre Off The Square is located at 114 North Denton Street\, Weatherford.</span><br />\n&nbsp\;<br />\n<span style="font-size:11.0pt">ASL interpreters will be at the performance on Saturday\, December 11 at 8:00 pm. Services are provided through a partnership with the American Sign Language Interpreting Program of Tarrant County College Trinity River Campus.</span><br />\n&nbsp\;<br />\n<span style="font-family:times new roman\,serif">This beloved American holiday classic comes to captivating life as a live 1940s radio broadcast. With the help of an ensemble that brings a few dozen characters to the stage\, the story of idealistic George Bailey unfolds as he considers ending his life one fateful Christmas Eve.</span><br />\n&nbsp\;<br />\n<span style="font-family:times new roman\,serif">The cast includes:&nbsp\; Zuzu &ndash\; Blakely Britton\; Sadie &ndash\; Justina Cadwell\; Mrs. Thompson &ndash\; Dana Chestnut\; Violet/Young Violet &ndash\; Mia Currie\; Bridgekeeper/Horace the Teller/Binky/Tommy/Bert &ndash\; Matthew Foster\; George Bailey/Young George Bailey &ndash\; Mark Gillies\; Sam Wainwright/Charlie/Dr. Campbell/Mr. Welch/Harry &ndash\; Dirk Green\; Ruth Dakin Bailey/Woman/Matilda &ndash\; Linda Hardin\; Henry F. Potter/Old Man Gower/Nick &ndash\; Jacob Myers\; Mary Hatch Bailey/Young Mary Hatch &ndash\; Toni Ogle\; Rose</span><br />\n<span style="font-family:times new roman\,serif">Bailey/Shultz/Janie Bailey &ndash\; Dana Powers\; Mrs. Hatch &ndash\; Julie Self\; Clarence the Angel &ndash\; Lynn Self\;</span><br />\n<span style="font-family:times new roman\,serif">Joseph/Ernie/Cop &ndash\; Mike Smiddy\; Announcer/Peter Bailey/Billy Bailey/Old Man Collins/Pete Bailey/Man &ndash\; Garrett Tucker\; Martini/Ed/Sheriff &ndash\; Thomas Vigil\; Foley Artist &ndash\; Dan Parris\;</span><br />\n<span style="font-family:times new roman\,serif">Assistant Foley Artist &ndash\; Carson Luke.</span><br />\n<span style="font-family:times new roman\,serif"><span style="font-size:11.0pt">As a courtesy to our patrons\, we strongly encourage the wearing of masks for all those attending. </span></span><br />\n<span style="color:black">2022 Flex packages are on sale now for $100! The Flex Package comes with 7 &quot\;flex credits&quot\; (tickets) that can be redeemed for admission to any mainstage show in our 2022 season.</span><br />\n&nbsp\;
LOCATION:Theatre Off The Square is located at 114 North Denton Street\, Weatherford.
UID:e.2477.15774
SEQUENCE:3
DTSTAMP:20260425T212136Z
URL:http://business.parkercountychamber.com/events/details/it-s-a-wonderful-life-a-live-radio-play-12-17-2021-15774
END:VEVENT

END:VCALENDAR
