BEGIN:VCALENDAR
VERSION:2.0
PRODID:-//ChamberMaster//Event Calendar 2.0//EN
METHOD:PUBLISH
X-PUBLISHED-TTL:P3D
REFRESH-INTERVAL:P3D
CALSCALE:GREGORIAN
BEGIN:VEVENT
DTSTART:20260502T150000Z
DTEND:20260502T200000Z
X-MICROSOFT-CDO-ALLDAYEVENT:FALSE
SUMMARY:Into the Woods Auditions
DESCRIPTION:Musical: Into the Woods\n\nAuditions: May 2 @ 10 a.m. - 3 p.m.\n\nCallbacks: May 3 @ 5 p.m. - 10 p.m. at Alkek\n\n\n\nRehearsals: Start June 8\, but will be spotty until the June 15.\n\nMonday - Thursday: 6 p.m. - 10 p.m.\n\nSaturday: 11 a.m. - 2 p.m.\n\n\n\nPerformances: \n\nJuly 24 & 25: 7 p.m.\n\nJuly 26: 2 p.m.\n\nJuly 31 & August 1: 7 p.m.\n\nAugust 2: 2 p.m.\n\n\n\nINTO THE WOODS\n\n\n\nMusic and Lyrics by STEPHEN SONDHEIM.\n\nBook by JAMES LAPINE.\n\nOriginally Directed on Broadway by James Lapine.\n\n\n\nOrchestrations by Jonathan Tunick.\n\n\n\nOriginal Broadway production by Heidi Landesman\, Rocco Landesman\, Rick Steiner\, M. Anthony Fisher\, Frederic H. Mayerson\, Jujamcyn Theaters.\n\n\n\nOriginally produced by the Old Globe Theater\, San Diego\, CA.\n\n\n\nInto the Woods Is presented through special arrangement with Music Theatre International (MTI). All authorized performance materials are also supplied by MTI. www.mtishows.com
X-ALT-DESC;FMTTYPE=text/html:<p><strong>Musical: Into the Woods</strong><br />\n<em>Auditions:</em>&nbsp\;May 2 @ 10 a.m. - 3 p.m.<br />\n<em>Callbacks:</em>&nbsp\;May 3 @ 5 p.m. - 10 p.m.&nbsp\;at Alkek<br />\n<br />\n<em>Rehearsals:&nbsp\;</em>Start June 8\, but will be spotty until the June 15.<br />\nMonday - Thursday: 6 p.m. - 10 p.m.<br />\nSaturday: 11 a.m. - 2 p.m.<br />\n<br />\n<em>Performances:&nbsp\;</em><br />\nJuly 24 &amp\; 25: 7 p.m.<br />\nJuly 26: 2 p.m.<br />\nJuly 31 &amp\; August 1: 7 p.m.<br />\nAugust 2: 2 p.m.</p>\n\n<p style="text-align:center"><br />\n<strong>INTO THE WOODS</strong><br />\n<br />\nMusic and Lyrics by STEPHEN SONDHEIM.<br />\nBook by JAMES LAPINE.<br />\nOriginally Directed on Broadway by James Lapine.<br />\n<br />\nOrchestrations by Jonathan Tunick.<br />\n<br />\nOriginal Broadway production by Heidi Landesman\, Rocco Landesman\, Rick Steiner\, M. Anthony Fisher\, Frederic H. Mayerson\, Jujamcyn Theaters.<br />\n<br />\nOriginally produced by the Old Globe Theater\, San Diego\, CA.<br />\n<br />\nInto the Woods Is presented through special arrangement with Music Theatre International (MTI). All authorized performance materials are also supplied by MTI. www.mtishows.com</p>\n
LOCATION:Weatherford College Alkek Fine Arts Center 225 College Park Dr. Weatherford\, TX 76086
UID:e.2477.21925
SEQUENCE:3
DTSTAMP:20260420T205805Z
URL:http://business.parkercountychamber.com/events/details/into-the-woods-auditions-21925
END:VEVENT

END:VCALENDAR
