BEGIN:VCALENDAR
VERSION:2.0
PRODID:-//ChamberMaster//Event Calendar 2.0//EN
METHOD:PUBLISH
X-PUBLISHED-TTL:P3D
REFRESH-INTERVAL:P3D
CALSCALE:GREGORIAN
BEGIN:VEVENT
DTSTART:20260801T000000Z
DTEND:20260801T020000Z
X-MICROSOFT-CDO-ALLDAYEVENT:FALSE
SUMMARY:Into the Woods
DESCRIPTION:INTO THE WOODS\n\n\n\nThe story follows a Baker and his wife\, who wish to have a child\; Cinderella\, who wishes to attend the King's Festival\; and Jack\, who wishes his cow would give milk. When the Baker and his wife learn that they cannot have a child because of a Witch's curse\, the two set off on a journey to break the curse. Everyone's wish is granted\, but the consequences of their actions return to haunt them later with disastrous results.\n\n\n\nMusic and Lyrics by STEPHEN SONDHEIM.\n\n\n\nBook by JAMES LAPINE.\n\n\n\nOriginally Directed on Broadway by James Lapine.\n\n\n\nOrchestrations by Jonathan Tunick.\n\n\n\nOriginal Broadway production by Heidi Landesman\, Rocco Landesman\, Rick Steiner\, M. Anthony Fisher\, Frederic H. Mayerson\, Jujamcyn Theaters.\n\n\n\nOriginally produced by the Old Globe Theater\, San Diego\, CA.\n\n\n\nDirected by James & Erin Brownlee.\n\n\n\nInto the Woods Is presented through special arrangement with Music Theatre International (MTI). All authorized performance materials are also supplied by MTI. www.mtishows.com
X-ALT-DESC;FMTTYPE=text/html:<strong>INTO THE WOODS</strong><br />\n<br />\nThe story follows a Baker and his wife\, who wish to have a child\; Cinderella\, who wishes to attend the King&#39\;s Festival\; and Jack\, who wishes his cow would give milk. When the Baker and his wife learn that they cannot have a child because of a Witch&#39\;s curse\, the two set off on a journey to break the curse. Everyone&#39\;s wish is granted\, but the consequences of their actions return to haunt them later with disastrous results.<br />\n<br />\nMusic and Lyrics by <em>STEPHEN SONDHEIM.</em><br />\n<br />\nBook by <em>JAMES LAPINE.</em><br />\n<br />\nOriginally Directed on Broadway by <em>James Lapine.</em><br />\n<br />\nOrchestrations by <em>Jonathan Tunick.</em><br />\n<br />\nOriginal Broadway production by <em>Heidi Landesman\, Rocco Landesman\, Rick Steiner\, M. Anthony Fisher\, Frederic H. Mayerson\, Jujamcyn Theaters.</em><br />\n<br />\nOriginally produced by <em>the Old Globe Theater\, San Diego\, CA.</em><br />\n<br />\nDirected by <em>James &amp\; Erin Brownlee.</em><br />\n<br />\nInto the Woods Is presented through special arrangement with Music Theatre International (MTI). All authorized performance materials are also supplied by MTI. <a href="https://www.mtishows.com">www.mtishows.com</a>
LOCATION:Weatherford College Alkek Fine Arts Center 225 College Park Dr Weatherford\, TX 76086
UID:e.2477.21930
SEQUENCE:3
DTSTAMP:20260421T030845Z
URL:http://business.parkercountychamber.com/events/details/into-the-woods-07-31-2026-21930
END:VEVENT

END:VCALENDAR
