BEGIN:VCALENDAR
VERSION:2.0
PRODID:-//ChamberMaster//Event Calendar 2.0//EN
METHOD:PUBLISH
X-PUBLISHED-TTL:P3D
REFRESH-INTERVAL:P3D
CALSCALE:GREGORIAN
BEGIN:VEVENT
DTSTART:20260212T153000Z
DTEND:20260212T230000Z
X-MICROSOFT-CDO-ALLDAYEVENT:FALSE
SUMMARY:Interdisciplinary Academic Conference
DESCRIPTION:Join us at Weatherford College for our 8th Annual Interdisciplinary Academic Conference. This year's theme is America 250: Honoring our Past\, Courageously Imagining our Future.\n\n\n\nOn July 4\, 2026\, our nation will commemorate and celebrate the 250th anniversary of the signing of the Declaration of Independence. The journey toward this historic milestone is an opportunity to pause and reflect on our nation's past\, honor the contributions of all Americans\, and look ahead toward the future we want to create for the next generation and beyond.\n\n\n\nThe conference brings together experts and leaders in government\, defense\, the humanities\, the arts\, history\, mathematics\, and science to celebrate "Our American Story." It is open to students\, faculty\, staff\, and community members.\n\n\n\nGo to the link for more information and to register:\n\nhttps://express.adobe.com/page/BLtUZHjBvLJvZ
X-ALT-DESC;FMTTYPE=text/html:Join us at Weatherford College for our 8th Annual Interdisciplinary Academic Conference. This year&#39\;s theme is America 250: Honoring our Past\, Courageously Imagining our Future.<br />\n<br />\nOn July 4\, 2026\, our nation will commemorate and celebrate the 250th anniversary of the signing of the Declaration of Independence. The journey toward this historic milestone is an opportunity to pause and reflect on our nation&rsquo\;s past\, honor the contributions of all Americans\, and look ahead toward the future we want to create for the next generation and beyond.<br />\n<br />\nThe conference brings together experts and leaders in government\, defense\, the humanities\, the arts\, history\, mathematics\, and science to celebrate &quot\;Our American Story.&quot\; It is open to students\, faculty\, staff\, and community members.<br />\n<br />\nGo to the link for more information and to register:<br />\n<a href="https://express.adobe.com/page/BLtUZHjBvLJvZ" rel="noopener" target="_blank">https://express.adobe.com/page/BLtUZHjBvLJvZ</a>
LOCATION:Weatherford College Emerging Technologies and Workforce Building 225 College Park Dr Weatherford\, TX 76086
UID:e.2477.21171
SEQUENCE:3
DTSTAMP:20260421T045232Z
URL:http://business.parkercountychamber.com/events/details/interdisciplinary-academic-conference-02-12-2026-21171
END:VEVENT

END:VCALENDAR
