BEGIN:VCALENDAR
VERSION:2.0
PRODID:-//ChamberMaster//Event Calendar 2.0//EN
METHOD:PUBLISH
X-PUBLISHED-TTL:P3D
REFRESH-INTERVAL:P3D
CALSCALE:GREGORIAN
BEGIN:VEVENT
DTSTART:20220624T000000Z
DTEND:20220624T010000Z
X-MICROSOFT-CDO-ALLDAYEVENT:FALSE
SUMMARY:Hudson Oaks City Council Meeting
DESCRIPTION:http://www.hudsonoaks.com
X-ALT-DESC;FMTTYPE=text/html:<a href="http://www.hudsonoaks.com">http://www.hudsonoaks.com</a>
LOCATION:
UID:e.2477.16432
SEQUENCE:3
DTSTAMP:20260425T142927Z
URL:http://business.parkercountychamber.com/events/details/hudson-oaks-city-council-meeting-06-23-2022-16432
END:VEVENT

END:VCALENDAR
