BEGIN:VCALENDAR
VERSION:2.0
PRODID:-//ChamberMaster//Event Calendar 2.0//EN
METHOD:PUBLISH
X-PUBLISHED-TTL:P3D
REFRESH-INTERVAL:P3D
CALSCALE:GREGORIAN
BEGIN:VEVENT
DTSTART:20251205T010000Z
DTEND:20251205T010000Z
X-MICROSOFT-CDO-ALLDAYEVENT:FALSE
SUMMARY:Hope for the Holidays
DESCRIPTION:The Weatherford College Jazz Orchestra presents: Hope for the Holidays Concert.
X-ALT-DESC;FMTTYPE=text/html:The Weatherford College Jazz Orchestra&nbsp\;presents: Hope for the Holidays Concert.
LOCATION:Weatherford College Alkek Fine Arts Center 225 College Park Dr. Weatherford\, TX 76086
UID:e.2477.20991
SEQUENCE:3
DTSTAMP:20260421T082042Z
URL:http://business.parkercountychamber.com/events/details/hope-for-the-holidays-12-04-2025-20991
END:VEVENT

END:VCALENDAR
