BEGIN:VCALENDAR
VERSION:2.0
PRODID:-//ChamberMaster//Event Calendar 2.0//EN
METHOD:PUBLISH
X-PUBLISHED-TTL:P3D
REFRESH-INTERVAL:P3D
CALSCALE:GREGORIAN
BEGIN:VEVENT
DTSTART:20210708T180000Z
DTEND:20210708T210000Z
X-MICROSOFT-CDO-ALLDAYEVENT:FALSE
SUMMARY:Hiring Fair
DESCRIPTION:Film Alley is hiring!! Kitchen Staff\, Servers\, Bartenders\, Customer Service. Apply and interview in person from 1-4. Can't make it to the Hiring Fair? Apply online Schulman Theatres Careers (jobappnetwork.com)
X-ALT-DESC;FMTTYPE=text/html:<span style="background-color:rgb(251\, 252\, 254)\; color:rgb(63\, 77\, 90)\; font-family:system-ui\,blinkmacsystemfont\,-apple-system\,segoe ui\,roboto\,oxygen\,ubuntu\,cantarell\,fira sans\,droid sans\,helvetica neue\,sans-serif\; font-size:16px">Film Alley is hiring!! Kitchen Staff\, Servers\, Bartenders\, Customer Service. Apply and interview in person from 1-4. Can&#39\;t make it to the Hiring Fair? Apply online&nbsp\;</span><a href="https://apply.jobappnetwork.com/schulman-theatres/en" style="margin: 0px\; padding: 0px\; border: 0px\; font-variant-numeric: inherit\; font-variant-east-asian: inherit\; font-stretch: inherit\; font-size: 16px\; line-height: inherit\; font-family: system-ui\, BlinkMacSystemFont\, -apple-system\, &quot\;Segoe UI&quot\;\, Roboto\, Oxygen\, Ubuntu\, Cantarell\, &quot\;Fira Sans&quot\;\, &quot\;Droid Sans&quot\;\, &quot\;Helvetica Neue&quot\;\, sans-serif\; vertical-align: baseline\; text-decoration-line: none\; color: rgb(51\, 151\, 255)\; cursor: pointer\; box-sizing: inherit\; background-color: rgb(251\, 252\, 254)\; outline: 0px !important\;">Schulman Theatres Careers (jobappnetwork.com)</a>
LOCATION:
UID:e.2477.15508
SEQUENCE:3
DTSTAMP:20260426T040532Z
URL:http://business.parkercountychamber.com/events/details/hiring-fair-15508
END:VEVENT

END:VCALENDAR
