BEGIN:VCALENDAR
VERSION:2.0
PRODID:-//ChamberMaster//Event Calendar 2.0//EN
METHOD:PUBLISH
X-PUBLISHED-TTL:P3D
REFRESH-INTERVAL:P3D
CALSCALE:GREGORIAN
BEGIN:VEVENT
DTSTART:20250131T180000Z
DTEND:20250131T193000Z
X-MICROSOFT-CDO-ALLDAYEVENT:FALSE
SUMMARY:Healthy Aging Community Education
DESCRIPTION:If you are concerned about aging\, join us for this free event at the Benbrook Public Library. Learn how to control your aging process and extend longevity in a healthier way!
X-ALT-DESC;FMTTYPE=text/html:If you are concerned about aging\, join us for this free event at the Benbrook Public Library. Learn how to control your aging process and extend longevity in a healthier way!
LOCATION:Benbrook Public Library 1065 Mercedes St. Benbrook\, TX 76126
UID:e.2477.20122
SEQUENCE:3
DTSTAMP:20260423T144430Z
URL:http://business.parkercountychamber.com/events/details/healthy-aging-community-education-20122
END:VEVENT

END:VCALENDAR
