BEGIN:VCALENDAR
VERSION:2.0
PRODID:-//ChamberMaster//Event Calendar 2.0//EN
METHOD:PUBLISH
X-PUBLISHED-TTL:P3D
REFRESH-INTERVAL:P3D
CALSCALE:GREGORIAN
BEGIN:VEVENT
DTSTART:20240903T170000Z
DTEND:20240903T173000Z
X-MICROSOFT-CDO-ALLDAYEVENT:FALSE
SUMMARY:Health Care and Your Retirement - Virtual
DESCRIPTION:What role will Medicare play in your retirement?\n\n\n\nThe increasing cost of health care is a growing concern for current and future retirees. In fact\, thirty years ago\, retirees spent almost twice as much on food as on health care\; now the amounts are nearly equal.*\n\n\n\nJoin us for our presentation\, Health Care and Your Retirement. to discuss:\n\n\n\nMedicare coverage and traditional medical expenses\n\nLong-term medical care expenses\n\nStrategies for addressing uncovered expenses\n\n\n\nPlease RSVP below or call us today to let us know if you and a guest will attend.\n\n\n\nPrior to the event we will send you instructions on how to join.\n\n\n\n* Source: The Federal Reserve and Edward Jones estimates.
X-ALT-DESC;FMTTYPE=text/html:What role will Medicare play in your retirement?<br />\n<br />\nThe increasing cost of health care is a growing concern for current and future retirees. In fact\, thirty years ago\, retirees spent almost twice as much on food as on health care\; now the amounts are nearly equal.*<br />\n<br />\nJoin us for our presentation\,&nbsp\;Health Care and Your Retirement. to discuss:<br />\n<br />\nMedicare coverage and traditional medical expenses<br />\nLong-term medical care expenses<br />\nStrategies for addressing uncovered expenses<br />\n<br />\nPlease RSVP below or call us today to let us know if you and a guest will attend.<br />\n<br />\nPrior to the event we will send you instructions on how to join.<br />\n<br />\n* Source: The Federal Reserve and Edward Jones estimates.
LOCATION:
UID:e.2477.19756
SEQUENCE:3
DTSTAMP:20260423T224620Z
URL:http://business.parkercountychamber.com/events/details/health-care-and-your-retirement-virtual-19756
END:VEVENT

END:VCALENDAR
