BEGIN:VCALENDAR
VERSION:2.0
PRODID:-//ChamberMaster//Event Calendar 2.0//EN
METHOD:PUBLISH
X-PUBLISHED-TTL:P3D
REFRESH-INTERVAL:P3D
CALSCALE:GREGORIAN
BEGIN:VEVENT
DTSTART:20250426T190000Z
DTEND:20250426T210000Z
X-MICROSOFT-CDO-ALLDAYEVENT:FALSE
SUMMARY:Grand Opening - Speed Pro
DESCRIPTION:
X-ALT-DESC;FMTTYPE=text/html:
LOCATION:3220 Collinsworth St Fort Worth\, TX
UID:e.2477.20342
SEQUENCE:3
DTSTAMP:20260423T085446Z
URL:http://business.parkercountychamber.com/events/details/grand-opening-speed-pro-20342
END:VEVENT

END:VCALENDAR
