BEGIN:VCALENDAR
VERSION:2.0
PRODID:-//ChamberMaster//Event Calendar 2.0//EN
METHOD:PUBLISH
X-PUBLISHED-TTL:P3D
REFRESH-INTERVAL:P3D
CALSCALE:GREGORIAN
BEGIN:VEVENT
DTSTART;VALUE=DATE:20241005
DTEND;VALUE=DATE:20241006
TRANSP:TRANSPARENT
X-MICROSOFT-CDO-ALLDAYEVENT:TRUE
SUMMARY:Grand Opening Event at The Reserves at Trinity!
DESCRIPTION:Clarity Homes is thrilled to invite you to the Grand Opening of our beautiful model home at The Reserves at Trinity in Willow Park! This family-friendly event will be held on October 5th from 2:00 PM - 5:00 PM at 100 W. Furlong\, Willow Park\, TX 76087.\n\nBring your family and friends for an afternoon filled with fun! We'll have a bounce house\, shopping\, games\, crafts\, snacks\, and beverages for everyone to enjoy. Plus\, take a tour of our model home and two inventory homes you might just find your dream home waiting for you.\n\n\n\nSpecial Giveaway: Participate in our Snap & Share social media challenge for a chance to win big prizes\, including a YETI cooler packed with goodies!\n\nWe can't wait to see you there! Come discover why The Reserves at Trinity is one of the most sought-after communities in Parker County.
X-ALT-DESC;FMTTYPE=text/html:<p><strong>Clarity Homes</strong> is thrilled to invite you to the <strong>Grand Opening</strong> of our beautiful model home at <strong>The Reserves at Trinity</strong> in <strong>Willow Park!</strong> This family-friendly event will be held on <strong>October 5th</strong> from <strong>2:00 PM - 5:00 PM</strong> at <strong>100 W. Furlong\, Willow Park\, TX 76087</strong>.</p>\n\n<p>Bring your family and friends for an afternoon filled with fun! We&rsquo\;ll have a <strong>bounce house\, shopping\, games\, crafts\, snacks\, and beverages</strong> for everyone to enjoy. Plus\, take a tour of our model home and two inventory homes&mdash\;you might just find your dream home waiting for you.<br />\n<br />\n<strong>Special Giveaway:</strong> Participate in our <strong>Snap &amp\; Share social media challenge</strong> for a chance to win big prizes\, including a <strong>YETI cooler</strong> packed with goodies!</p>\n\n<p>We can&rsquo\;t wait to see you there! Come discover why <strong>The Reserves at Trinity</strong> is one of the most sought-after communities in <strong>Parker County</strong>.</p>\n
LOCATION:Location: 100 W. Furlong\, Willow Park\, TX 76087 The Reserves at Trinity The Reserves at Trinity is conveniently located behind The Shops at Willow Park. From I-20\, head north on Ranch House Road for about 1.5 miles. Turn right onto Crown Road and continue straight until you reach the intersection of W. Furlong Enjoy shopping at The Shops before or after visiting us!
UID:e.2477.19984
SEQUENCE:3
DTSTAMP:20260423T211548Z
URL:http://business.parkercountychamber.com/events/details/grand-opening-event-at-the-reserves-at-trinity-19984
END:VEVENT

END:VCALENDAR
