BEGIN:VCALENDAR
VERSION:2.0
PRODID:-//ChamberMaster//Event Calendar 2.0//EN
METHOD:PUBLISH
X-PUBLISHED-TTL:P3D
REFRESH-INTERVAL:P3D
CALSCALE:GREGORIAN
BEGIN:VEVENT
DTSTART;VALUE=DATE:20211106
DTEND;VALUE=DATE:20211107
TRANSP:TRANSPARENT
X-MICROSOFT-CDO-ALLDAYEVENT:TRUE
SUMMARY:Go the Distance 5K Run
DESCRIPTION:It's time again for the Zonta Club of Parker County's Go the Distance 5k Run and this is our FIFTH ANNIVERSARY! The event will be held November 6\, 2021 in Hudson Oaks at Gene Voyles Park.  Go the Distance 5k Run is to bring awareness to Domestic Violence and Zonta's SAY NO TO VIOLENCE AGAINST WOMEN AND CHILDREN campaign.  Zonta is an International Service Organization whose mission is to advance the status of women worldwide through service and advocacy.  Proceeds from our run go to support local and international service projects including Meals on Wheels\, Pink Luncheon\, Sanctified Hope\, Velvet Hearts\, Just Us Friends\, Center of Hope and Freedom House\, as well as local scholarships for Parker County students to attend college.  Our members volunteer at functions benefiting these organizations and always raise money and awareness for them.\n\n \n\nHow can you participate?  We have several opportunities for you to be a part of this.\n\n \n\n	Be a sponsor we have 4 levels\n\n\n\n	Jogger:  $100   name/logo on our runner T-shirts(small print)\, 1 entry in race \n\n(You can be a sponsor without a runner)\n\n\n	Miler:  $250   name/logo on T-shirts(small print)\, with shirts for each runner\, team of 4 in race \n	Marathon:  $500   name/logo on our runner T-shirts\, (medium print) name on posters at event\, team of 8 in race\, name/logo on our pre-event advertising and recognition on our Facebook page\n	Olympian:  $750   top billing name/logo on our runner T-shirts (large print)\, name/logo on posters at event\, team of 12 in race\, name/logo on our pre-event advertising\, recognition at our annual Amelia Earhart luncheon and on our Facebook page\n\n \n\n\n	Be a runner -- $35 per person with a T-shirt with registration by October 22.  After 10/22 shirt not guaranteed.\n\n \n\n\n	Make a donation.  A portion of the funds from this event will be used to help our service projects and scholarships with needed items or money.  Any amount is appreciated.\n\n \n\nI appreciate your consideration of this worthwhile event and look forward to hearing back from you.  All donations are appreciated.  Our deadline to be included on the T-shirts is October 13.  Payment and logo must be received by that date to be included.  Please mail payment to me at P.O. Box 2095\, Weatherford\, TX 76086\, and email your logo\, team member names and shirt sizes and sponsorship level to me at djcouch@sbcglobal.net.
X-ALT-DESC;FMTTYPE=text/html:It&rsquo\;s time again for the Zonta Club of Parker County&rsquo\;s <strong>Go the Distance 5k Run</strong> <strong>and</strong> this is our <strong>FIFTH ANNIVERSARY! </strong>The event will be held November 6\, 2021 in Hudson Oaks at Gene Voyles Park.&nbsp\; <strong>Go the Distance 5k Run</strong> is to bring awareness to Domestic Violence and Zonta&rsquo\;s <strong>SAY NO TO VIOLENCE AGAINST WOMEN AND CHILDREN campaign</strong>.&nbsp\; Zonta is an International Service Organization whose mission is to advance the status of women worldwide through service and advocacy. &nbsp\;Proceeds from our run go to support local and international service projects including Meals on Wheels\, Pink Luncheon\, Sanctified Hope\, Velvet Hearts\, Just Us Friends\, Center of Hope and Freedom House\, as well as local scholarships for Parker County students to attend college. &nbsp\;Our members volunteer at functions benefiting these organizations and always raise money and awareness for them.<br />\n&nbsp\;<br />\nHow can you participate?&nbsp\; We have several opportunities for you to be a part of this.<br />\n&nbsp\;\n<ol>\n	<li>Be a sponsor&mdash\;we have 4 levels</li>\n</ol>\n\n<ol style="list-style-type:upper-alpha\;">\n	<li><strong>Jogger</strong>:&nbsp\; <strong>$100</strong> &ndash\; name/logo on our runner T-shirts<strong>(small print)</strong>\, 1 entry in race&nbsp\;</li>\n</ol>\n<strong>(You can be a sponsor without a runner)</strong>\n\n<ol style="list-style-type:upper-alpha\;">\n	<li value="2"><strong>Miler:&nbsp\; $250</strong> &ndash\; name/logo on T-shirts<strong>(small print)\,</strong> with shirts for each runner\, team of 4 in race&nbsp\;</li>\n	<li value="3"><strong>Marathon:&nbsp\; $500</strong> &ndash\; name/logo on our runner T-shirts\, (<strong>medium print) </strong>name on posters at event\, team of 8 in race\, name/logo on our pre-event advertising and recognition on our Facebook page</li>\n	<li value="4"><strong>Olympian:&nbsp\; $750 &ndash\; </strong>top billing name/logo on our runner T-shirts <strong>(large print)</strong>\, name/logo on posters at event\, team of 12 in race\, name/logo on our pre-event advertising\, recognition at our annual Amelia Earhart luncheon and on our Facebook page</li>\n</ol>\n&nbsp\;\n\n<ol>\n	<li value="2">Be a runner -- $35 per person with a T-shirt with registration by October 22.&nbsp\; After 10/22 shirt not guaranteed.</li>\n</ol>\n&nbsp\;\n\n<ol>\n	<li value="3">Make a donation.&nbsp\; A portion of the funds from this event will be used to help our service projects and scholarships with needed items or money.&nbsp\; Any amount is appreciated.</li>\n</ol>\n&nbsp\;<br />\nI appreciate your consideration of this worthwhile event and look forward to hearing back from you.&nbsp\; All donations are appreciated.&nbsp\; Our deadline to be included on the T-shirts is October 13.&nbsp\; Payment and logo must be received by that date to be included.&nbsp\; Please mail payment to me at P.O. Box 2095\, Weatherford\, TX 76086\, and email your logo\, team member names and shirt sizes and sponsorship level to me at djcouch@sbcglobal.net.&nbsp\;
LOCATION:
UID:e.2477.15587
SEQUENCE:3
DTSTAMP:20260425T223352Z
URL:http://business.parkercountychamber.com/events/details/go-the-distance-5k-run-15587
END:VEVENT

END:VCALENDAR
