BEGIN:VCALENDAR
VERSION:2.0
PRODID:-//ChamberMaster//Event Calendar 2.0//EN
METHOD:PUBLISH
X-PUBLISHED-TTL:P3D
REFRESH-INTERVAL:P3D
CALSCALE:GREGORIAN
BEGIN:VEVENT
DTSTART;VALUE=DATE:20241210
DTEND;VALUE=DATE:20250101
TRANSP:TRANSPARENT
X-MICROSOFT-CDO-ALLDAYEVENT:TRUE
SUMMARY:Gift of Heat
DESCRIPTION:http://comfortmastersdfw.com/gift-of-heat/\n\n\n\nWe can get caught up this time of year wanting to buy the latest and greatest thing. However\, there are people out there that do not have basic things. We want to help out someone in need. We have partnered with Amana and Standard Supply to bless someone with brand new system. Do you know anyone who could use the gift of heat this Christmas? Like and share our page then hop on over to our website and fill out the application. We are accepting applicants thru Dec 31st!!
X-ALT-DESC;FMTTYPE=text/html:<a href="http://comfortmastersdfw.com/gift-of-heat/">http://comfortmastersdfw.com/gift-of-heat/</a><br />\n<br />\n<span style="background-color:rgb(255\, 255\, 255)\; color:rgb(8\, 8\, 9)\; font-family:segoe ui historic\,segoe ui\,helvetica\,arial\,sans-serif\; font-size:15px">We can get caught up this time of year wanting to buy the latest and greatest thing. However\, there are people out there that do not have basic things. We want to help out someone in need. We have partnered with Amana and Standard Supply to bless someone with brand new system. Do you know anyone who could use the gift of heat this Christmas? Like and share our page then hop on over to our website and fill out the application. We are accepting applicants thru Dec 31st!!</span><br />\n&nbsp\;
LOCATION:Comfort Masters Heating and Air Conditioning Please visit our website or Facebook page for event details!
UID:e.2477.20076
SEQUENCE:3
DTSTAMP:20260423T190828Z
URL:http://business.parkercountychamber.com/events/details/gift-of-heat-20076
END:VEVENT

END:VCALENDAR
