BEGIN:VCALENDAR
VERSION:2.0
PRODID:-//ChamberMaster//Event Calendar 2.0//EN
METHOD:PUBLISH
X-PUBLISHED-TTL:P3D
REFRESH-INTERVAL:P3D
CALSCALE:GREGORIAN
BEGIN:VEVENT
DTSTART:20240503T130000Z
DTEND:20240504T200000Z
X-MICROSOFT-CDO-ALLDAYEVENT:FALSE
SUMMARY:Garage Sale
DESCRIPTION:Our Annual Garage Sale will be Friday May 3rd 8am-3pm and Saturday May 4th 8am-3pm.\n\n\n\nCome shop and see what all we have in our sale.  All proceeds go towards Summer Activities for the Children. \n\n\n\nCash/Check only \n\n\n\nClothing\n\nToys\n\nBooks\n\nHome Decor\n\nHoliday Decor\n\nFurniture\n\nand more
X-ALT-DESC;FMTTYPE=text/html:Our Annual Garage Sale will be Friday May 3rd 8am-3pm and Saturday May 4th 8am-3pm.<br />\n<br />\nCome shop and see what all we have in our sale.&nbsp\; All proceeds go towards Summer Activities for the Children.&nbsp\;<br />\n<br />\nCash/Check only&nbsp\;<br />\n<br />\nClothing<br />\nToys<br />\nBooks<br />\nHome Decor<br />\nHoliday Decor<br />\nFurniture<br />\nand more
LOCATION:Texas PYthian Home\,inc. 1825 E Bankhead Dr. Weatherford\, Texas 76086
UID:e.2477.19221
SEQUENCE:3
DTSTAMP:20260424T040929Z
URL:http://business.parkercountychamber.com/events/details/garage-sale-19221
END:VEVENT

END:VCALENDAR
