BEGIN:VCALENDAR
VERSION:2.0
PRODID:-//ChamberMaster//Event Calendar 2.0//EN
METHOD:PUBLISH
X-PUBLISHED-TTL:P3D
REFRESH-INTERVAL:P3D
CALSCALE:GREGORIAN
BEGIN:VEVENT
DTSTART:20210914T233000Z
DTEND:20210915T023000Z
X-MICROSOFT-CDO-ALLDAYEVENT:FALSE
SUMMARY:Freedom House Garden Safari
DESCRIPTION:Join us for an evening of fun for a great cause \n\nRaffle Items\, Live and Silent Auction!\n\nGarden Casual Attire\n\n\n\nOUR MISSION - We will seek to end abuse and violence through prevention and intervention \n\nFreedom House Services - Emergency Shelter\, Legal Advocacy\, Crisis Intervention\, Prevention Programs\, Counseling & Support Groups.
X-ALT-DESC;FMTTYPE=text/html:Join us for an evening of fun for a great cause&nbsp\;<br />\nRaffle Items\, Live and Silent Auction!<br />\nGarden Casual Attire<br />\n<br />\nOUR MISSION -&nbsp\;We will seek to end abuse and violence through prevention and intervention&nbsp\;<br />\nFreedom House Services -&nbsp\;Emergency Shelter\, Legal Advocacy\, Crisis Intervention\,&nbsp\;Prevention Programs\, Counseling &amp\; Support Groups.
LOCATION:The Brooks at Weatherford 1185 W Lake Dr\, Weatherford
UID:e.2477.14892
SEQUENCE:3
DTSTAMP:20260426T012213Z
URL:http://business.parkercountychamber.com/events/details/freedom-house-garden-safari-14892
END:VEVENT

END:VCALENDAR
