BEGIN:VCALENDAR
VERSION:2.0
PRODID:-//ChamberMaster//Event Calendar 2.0//EN
METHOD:PUBLISH
X-PUBLISHED-TTL:P3D
REFRESH-INTERVAL:P3D
CALSCALE:GREGORIAN
BEGIN:VEVENT
DTSTART:20250731T163000Z
DTEND:20250731T173000Z
X-MICROSOFT-CDO-ALLDAYEVENT:FALSE
SUMMARY:FREE! ESTATE PLANNING: WRAP UP LUNCH N LEARN WITH JD NEWTON
DESCRIPTION:FREE!  Join us as we wrap up the Estate Planning series with a final lunch n learn class with JD Newton\, Financial Advisor. He will bring together all the information we have learned over the series in a final wrap up with an in depth Q & A session afterwards. \n\n\n\nJD Newton\, AAMS  \n EdwardJones \n\n Financial Advisor
X-ALT-DESC;FMTTYPE=text/html:FREE!&nbsp\; Join us as we wrap up the Estate Planning series with a final lunch n learn class with JD Newton\, Financial Advisor. He will bring together all the information we have learned over the series in a final wrap up with an in depth Q &amp\; A session afterwards.&nbsp\;<br />\n<br />\nJD Newton\, AAMS&trade\;&nbsp\;\n<div>&nbsp\;EdwardJones&nbsp\;</div>\n\n<div>&nbsp\;Financial Advisor</div>\n
LOCATION:CLEARFORK ASSISTED LIVING AND MEMORY CARE 178 CROWN POINTE WILLOW PARK\, TEXAS 76087
UID:e.2477.20599
SEQUENCE:3
DTSTAMP:20260423T042823Z
URL:http://business.parkercountychamber.com/events/details/free-estate-planning-wrap-up-lunch-n-learn-with-jd-newton-20599
END:VEVENT

END:VCALENDAR
