BEGIN:VCALENDAR
VERSION:2.0
PRODID:-//ChamberMaster//Event Calendar 2.0//EN
METHOD:PUBLISH
X-PUBLISHED-TTL:P3D
REFRESH-INTERVAL:P3D
CALSCALE:GREGORIAN
BEGIN:VEVENT
DTSTART:20250430T163000Z
DTEND:20250430T173000Z
X-MICROSOFT-CDO-ALLDAYEVENT:FALSE
SUMMARY:FREE!: Estate Planning II lunch n learn with an Estate Attorney
DESCRIPTION:FREE!: Estate Planning II - Lunch 'n Learn with an Estate Attorney\n\n\n\nJoin us for our 2nd class with special guest speakers:\nJD Newton\, AAMS   EdwardJones   Financial Advisor\n\nJeremy S. Cleverly\,  J.D.Managing  AttorneyThe Cleverly Law Firm\n\n\n\n**Light lunch & refreshments served
X-ALT-DESC;FMTTYPE=text/html:FREE!: Estate Planning II - Lunch &#39\;n Learn with an Estate Attorney<br />\n<br />\nJoin us for our 2nd class with special guest speakers:\n<p><span style="font-size:12px"><span style="color:black\; font-family:cg times\,serif\,serif\,emojifont">JD Newton\, AAMS</span><sup><span style="color:black\; font-family:cg times\,serif\,serif\,emojifont">&trade\;&nbsp\;&nbsp\;</span></sup><span style="color:black\; font-family:bodoni\,serif\,serif\,emojifont">Edward</span><span style="color:black\; font-family:franklin gothic medium\,sans-serif\,serif\,emojifont">Jones&nbsp\;&nbsp\;</span><span style="color:green\; font-family:calibri\,sans-serif\,serif\,emojifont">&nbsp\;</span><span style="color:black\; font-family:new century schoolbook\,serif\,serif\,emojifont"><strong>F</strong>inancial Advisor</span></span><br />\n<span style="color:rgb(68\, 68\, 68)\; font-family:arial\,sans-serif\; font-size:inherit">Jeremy S. Cleverly\,&nbsp\; J.D.Managing&nbsp\; AttorneyThe Cleverly Law Firm<br />\n<br />\n**Light lunch &amp\; refreshments served</span><br />\n&nbsp\;</p>\n\n<p><br />\n&nbsp\;</p>\n<br />\n<br />\n&nbsp\;
LOCATION:ClearFork Assisted Living and Memory Care 178 Crown Point Blvd Willow Park 76087
UID:e.2477.20351
SEQUENCE:3
DTSTAMP:20260423T103302Z
URL:http://business.parkercountychamber.com/events/details/free-estate-planning-ii-lunch-n-learn-with-an-estate-attorney-20351
END:VEVENT

END:VCALENDAR
