BEGIN:VCALENDAR
VERSION:2.0
PRODID:-//ChamberMaster//Event Calendar 2.0//EN
METHOD:PUBLISH
X-PUBLISHED-TTL:P3D
REFRESH-INTERVAL:P3D
CALSCALE:GREGORIAN
BEGIN:VEVENT
DTSTART:20250529T163000Z
DTEND:20250529T173000Z
X-MICROSOFT-CDO-ALLDAYEVENT:FALSE
SUMMARY:FREE!: Estate Planning 301 - Lunch 'n Learn: Tax Tips
DESCRIPTION:Join us for the third class of our Estate Planning series. We will learn important Tax Tips from our guest speaker JD Newton\, AAMS  EdwardJones Financial Advisor. Don't miss your opportunity to lunch 'n learn with us!
X-ALT-DESC;FMTTYPE=text/html:Join us for the third class of our Estate Planning series. We will learn important Tax Tips from our guest speaker JD Newton\, AAMS&trade\; EdwardJones Financial Advisor. Don&#39\;t miss your opportunity to lunch &#39\;n learn with us!&nbsp\;
LOCATION:ClearFork Assisted Living and Memory Care 178 Crown Pointe Willow Park\, Texas 76087
UID:e.2477.20407
SEQUENCE:3
DTSTAMP:20260423T072827Z
URL:http://business.parkercountychamber.com/events/details/free-estate-planning-301-lunch-n-learn-tax-tips-20407
END:VEVENT

END:VCALENDAR
